Workbook

Sheet ME(régi)
O2: m3 | Q2: m2
B3: Típus | C3: Mennyiség | E3: Tükörkész | F3: m2 | G3: Fagyv | H3: m3 | I3: Padka | J3: m2 | K3: Bontás | L3: m3 | M3: Marás | N3: m3 | O3: Kátyúz | R3: m3 | S3: FZKA | T3: m3 | U3: 0/20 | V3: m3 | W3: M56 | X3: m3 | Y3: AC11 köt | Z3: m3 | AA3: AC11 kop | AB3: m3
A4: 1. sz. út | B4: 5 | C4: 468.9 | D4: m2 | E4: 468.9 | F4: m2 | H4: m3 | I4: =C4*2/3 -> 312.6 | J4: m2 | L4: m3 | N4: m3 | R4: m3 | T4: m3 | V4: m3 | W4: =C4*0.25 -> 117.225 | X4: m3 | Z4: m3 | AB4: m3 | AC4: 1. típus: | AD4: útburkolat felújítás 20-30%-os alapcserével
B5: 3 | C5: 338.7 | D5: m2 | F5: m2 | H5: m3 | I5: =C5*2/3 -> 225.8 | J5: m2 | L5: m3 | M5: =C5*0.01 -> 3.387 | N5: m3 | O5: =C5*0.04*0.05 -> 0.6774 | P5: 0.04 | Q5: =O5/P5 -> 16.935 | R5: m3 | T5: m3 | V5: m3 | X5: m3 | Z5: m3 | AA5: =C5*0.06 -> 20.322 | AB5: m3 | AC5: 2. típus: | AD5: útburkolat felújítás 10%-os alapcserével
B6: 4 | D6: m2 | F6: m2 | H6: m3 | I6: =C6*2/3 -> 0 | J6: m2 | L6: m3 | M6: =C6*0.01 -> 0 | N6: m3 | P6: 0.04 | Q6: =O6/P6 -> 0 | R6: m3 | T6: m3 | V6: m3 | X6: m3 | Z6: m3 | AA6: =C6*0.06 -> 0 | AB6: m3 | AC6: 3. típus: | AD6: útburkolat felújítás kopóréteg cserével és kátyúzással
A7: 2. sz. út | B7: 2 | C7: 345.8 | D7: m2 | F7: m2 | G7: =C7*0.2*0.1 -> 6.916 | H7: m3 | I7: =C7/4*2 -> 172.9 | J7: m2 | K7: =G7*5*0.45 -> 15.561 | L7: m3 | M7: =C7*0.01 -> 3.458 | N7: m3 | O7: =C7*0.04*0.05 -> 0.6916 | P7: 0.04 | Q7: =O7/P7 -> 17.29 | R7: m3 | S7: 6.916 | T7: m3 | U7: =G7/5 -> 1.3832 | V7: m3 | X7: m3 | Y7: =G7/4 -> 1.729 | Z7: m3 | AA7: =C7*0.06 -> 20.748 | AB7: m3 | AC7: 4. típus: | AD7: útburkolat felújítás kopóréteg cserével
A8: 3. sz. út | B8: 5 | C8: 563.6 | D8: m2 | E8: 563.6 | F8: m2 | H8: m3 | I8: =C8/3*2 -> 375.73333 | J8: m2 | L8: m3 | N8: m3 | P8: 0.04 | Q8: =O8/P8 -> 0 | R8: m3 | T8: m3 | V8: m3 | W8: =C8*0.25 -> 140.9 | X8: m3 | Z8: m3 | AB8: m3 | AC8: 5. típus: | AD8: földutak felújításának pályaszerkezete
A9: 4. sz. út | B9: 2 | C9: 1433.15 | D9: m2 | F9: m2 | G9: =C9*0.2*0.1 -> 28.663 | H9: m3 | I9: =C9/3*2 -> 955.43333 | J9: m2 | K9: =G9*5*0.45 -> 64.49175 | L9: m3 | M9: =C9*0.01 -> 14.3315 | N9: m3 | O9: =C9*0.04*0.05 -> 2.8663 | P9: 0.04 | Q9: =O9/P9 -> 71.6575 | R9: m3 | S9: 28.663 | T9: m3 | U9: =G9/5 -> 5.7326 | V9: m3 | X9: m3 | Y9: =G9/4 -> 7.16575 | Z9: m3 | AA9: =C9*0.06 -> 85.989 | AB9: m3
A10: 5. sz. út | B10: 1 | C10: 831.4 | D10: m2 | F10: m2 | G10: =C10*0.2*0.3 -> 49.884 | H10: m3 | I10: =C10/3*2 -> 554.26667 | J10: m2 | K10: =G10*5*0.45 -> 112.239 | L10: m3 | M10: =C10*0.01 -> 8.314 | N10: m3 | O10: =C10*0.04*0.05 -> 1.6628 | P10: 0.04 | Q10: =O10/P10 -> 41.57 | R10: m3 | S10: 49.884 | T10: m3 | U10: =G10/5 -> 9.9768 | V10: m3 | X10: m3 | Y10: =G10/4 -> 12.471 | Z10: m3 | AA10: =C10*0.06 -> 49.884 | AB10: m3
A11: 6. sz. út | B11: 1 | C11: 1102.1 | D11: m2 | F11: m2 | G11: =C11*0.2*0.3 -> 66.126 | H11: m3 | I11: =C11/4*2 -> 551.05 | J11: m2 | K11: =G11*5*0.45 -> 148.7835 | L11: m3 | M11: =C11*0.01 -> 11.021 | N11: m3 | O11: =C11*0.04*0.05 -> 2.2042 | P11: 0.04 | Q11: =O11/P11 -> 55.105 | R11: m3 | S11: 66.126 | T11: m3 | U11: =G11/5 -> 13.2252 | V11: m3 | X11: m3 | Y11: =G11/4 -> 16.5315 | Z11: m3 | AA11: =C11*0.06 -> 66.126 | AB11: m3
A12: 7. sz. út | B12: 1 | C12: 1047.1 | D12: m2 | F12: m2 | G12: =C12*0.2*0.3 -> 62.826 | H12: m3 | I12: =C12/4*2 -> 523.55 | J12: m2 | K12: =G12*5*0.45 -> 141.3585 | L12: m3 | M12: =C12*0.01 -> 10.471 | N12: m3 | O12: =C12*0.04*0.05 -> 2.0942 | P12: 0.04 | Q12: =O12/P12 -> 52.355 | R12: m3 | S12: 62.826 | T12: m3 | U12: =G12/5 -> 12.5652 | V12: m3 | X12: m3 | Y12: =G12/4 -> 15.7065 | Z12: m3 | AA12: =C12*0.06 -> 62.826 | AB12: m3
B13: 3 | C13: 859.3 | D13: m2 | F13: m2 | H13: m3 | I13: =C13/4*2 -> 429.65 | J13: m2 | L13: m3 | M13: =C13*0.01 -> 8.593 | N13: m3 | O13: =C13*0.04*0.05 -> 1.7186 | P13: 0.04 | Q13: =O13/P13 -> 42.965 | R13: m3 | T13: m3 | V13: m3 | X13: m3 | Z13: m3 | AA13: =C13*0.06 -> 51.558 | AB13: m3
A14: 8. sz. út | B14: 3 | C14: 472.7 | D14: m2 | F14: m2 | H14: m3 | I14: =C14/4*2 -> 236.35 | J14: m2 | L14: m3 | M14: =C14*0.01 -> 4.727 | N14: m3 | O14: =C14*0.04*0.05 -> 0.9454 | P14: 0.04 | Q14: =O14/P14 -> 23.635 | R14: m3 | T14: m3 | V14: m3 | X14: m3 | Z14: m3 | AA14: =C14*0.06 -> 28.362 | AB14: m3
B15: 2 | C15: 2149.4 | D15: m2 | F15: m2 | G15: =C15*0.2*0.1 -> 42.988 | H15: m3 | I15: =C15/4*2 -> 1074.7 | J15: m2 | K15: =G15*5*0.45 -> 96.723 | L15: m3 | M15: =C15*0.01 -> 21.494 | N15: m3 | O15: =C15*0.04*0.05 -> 4.2988 | P15: 0.04 | Q15: =O15/P15 -> 107.47 | R15: m3 | S15: 42.988 | T15: m3 | U15: =G15/5 -> 8.5976 | V15: m3 | X15: m3 | Y15: =G15/4 -> 10.747 | Z15: m3 | AA15: =C15*0.06 -> 128.964 | AB15: m3
A16: 9. sz. út | B16: 2 | C16: 814.1 | D16: m2 | F16: m2 | G16: =C16*0.2*0.1 -> 16.282 | H16: m3 | I16: =C16/4*2 -> 407.05 | J16: m2 | K16: =G16*5*0.45 -> 36.6345 | L16: m3 | M16: =C16*0.01 -> 8.141 | N16: m3 | O16: =C16*0.04*0.05 -> 1.6282 | P16: 0.04 | Q16: =O16/P16 -> 40.705 | R16: m3 | S16: 16.282 | T16: m3 | U16: =G16/5 -> 3.2564 | V16: m3 | X16: m3 | Y16: =G16/4 -> 4.0705 | Z16: m3 | AA16: =C16*0.06 -> 48.846 | AB16: m3
A17: 10. sz. út | B17: 1 | C17: 804 | D17: m2 | F17: m2 | G17: =C17*0.2*0.3 -> 48.24 | H17: m3 | I17: =C17/3*2 -> 536 | J17: m2 | K17: =G17*5*0.45 -> 108.54 | L17: m3 | M17: =C17*0.01 -> 8.04 | N17: m3 | O17: =C17*0.04*0.05 -> 1.608 | P17: 0.04 | Q17: =O17/P17 -> 40.2 | R17: m3 | S17: 48.24 | T17: m3 | U17: =G17/5 -> 9.648 | V17: m3 | X17: m3 | Y17: =G17/4 -> 12.06 | Z17: m3 | AA17: =C17*0.06 -> 48.24 | AB17: m3
A18: 11. sz. út | B18: 5 | C18: 584.4 | D18: m2 | E18: 584.4 | F18: m2 | H18: m3 | I18: =C18/3*2 -> 389.6 | J18: m2 | L18: m3 | N18: m3 | P18: 0.04 | Q18: =O18/P18 -> 0 | R18: m3 | T18: m3 | V18: m3 | W18: =C18*0.25 -> 146.1 | X18: m3 | Z18: m3 | AB18: m3
A19: 12. sz út. | B19: 5 | C19: 423.7 | D19: m2 | E19: 423.7 | F19: m2 | H19: m3 | I19: =C19/3*2 -> 282.46667 | J19: m2 | L19: m3 | N19: m3 | P19: 0.04 | Q19: =O19/P19 -> 0 | R19: m3 | T19: m3 | V19: m3 | W19: =C19*0.25 -> 105.925 | X19: m3 | Z19: m3 | AB19: m3
A20: 13. sz. út | B20: 1 | C20: 47.4 | D20: m2 | F20: m2 | G20: =C20*0.2*0.3 -> 2.844 | H20: m3 | I20: =C20/3*2 -> 31.6 | J20: m2 | K20: =G20*5*0.45 -> 6.399 | L20: m3 | M20: =C20*0.01 -> 0.474 | N20: m3 | O20: =C20*0.04*0.05 -> 0.0948 | P20: 0.04 | Q20: =O20/P20 -> 2.37 | R20: m3 | S20: 2.844 | T20: m3 | U20: =G20/5 -> 0.5688 | V20: m3 | X20: m3 | Y20: =G20/4 -> 0.711 | Z20: m3 | AA20: =C20*0.06 -> 2.844 | AB20: m3
B21: 5 | C21: 380.1 | D21: m2 | E21: 380.1 | F21: m2 | H21: m3 | I21: =C21/3*2 -> 253.4 | J21: m2 | L21: m3 | N21: m3 | P21: 0.04 | Q21: =O21/P21 -> 0 | R21: m3 | T21: m3 | V21: m3 | W21: =C21*0.25 -> 95.025 | X21: m3 | Z21: m3 | AB21: m3
A22: 14. sz. út | B22: 1 | C22: 217.1 | D22: m2 | F22: m2 | G22: =C22*0.2*0.3 -> 13.026 | H22: m3 | I22: =C22/3*2 -> 144.73333 | J22: m2 | K22: =G22*5*0.45 -> 29.3085 | L22: m3 | M22: =C22*0.01 -> 2.171 | N22: m3 | O22: =C22*0.04*0.05 -> 0.4342 | P22: 0.04 | Q22: =O22/P22 -> 10.855 | R22: m3 | S22: 13.026 | T22: m3 | U22: =G22/5 -> 2.6052 | V22: m3 | X22: m3 | Y22: =G22/4 -> 3.2565 | Z22: m3 | AA22: =C22*0.06 -> 13.026 | AB22: m3
B23: 5 | C23: 437.5 | D23: m2 | E23: 437.5 | F23: m2 | H23: m3 | I23: =C23/3*2 -> 291.66667 | J23: m2 | L23: m3 | N23: m3 | P23: 0.04 | Q23: =O23/P23 -> 0 | R23: m3 | T23: m3 | V23: m3 | W23: =C23*0.25 -> 109.375 | X23: m3 | Z23: m3 | AB23: m3
A24: 15. sz. út | B24: 3 | C24: 436.4 | D24: m2 | F24: m2 | H24: m3 | I24: =C24/4*2 -> 218.2 | J24: m2 | L24: m3 | M24: =C24*0.01 -> 4.364 | N24: m3 | O24: =C24*0.04*0.05 -> 0.8728 | P24: 0.04 | Q24: =O24/P24 -> 21.82 | R24: m3 | T24: m3 | V24: m3 | X24: m3 | Z24: m3 | AA24: =C24*0.06 -> 26.184 | AB24: m3
A25: 16. sz. út | B25: 2 | C25: 588.8 | D25: m2 | F25: m2 | G25: =C25*0.2*0.1 -> 11.776 | H25: m3 | I25: =C25/4*2 -> 294.4 | J25: m2 | K25: =G25*5*0.45 -> 26.496 | L25: m3 | M25: =C25*0.01 -> 5.888 | N25: m3 | O25: =C25*0.04*0.05 -> 1.1776 | P25: 0.04 | Q25: =O25/P25 -> 29.44 | R25: m3 | S25: 11.776 | T25: m3 | U25: =G25/5 -> 2.3552 | V25: m3 | X25: m3 | Y25: =G25/4 -> 2.944 | Z25: m3 | AA25: =C25*0.06 -> 35.328 | AB25: m3
A26: 17. sz. út | B26: 3 | C26: 617.4 | D26: m2 | F26: m2 | H26: m3 | I26: =C26/4*2 -> 308.7 | J26: m2 | L26: m3 | M26: =C26*0.01 -> 6.174 | N26: m3 | O26: =C26*0.04*0.05 -> 1.2348 | P26: 0.04 | Q26: =O26/P26 -> 30.87 | R26: m3 | T26: m3 | V26: m3 | X26: m3 | Z26: m3 | AA26: =C26*0.06 -> 37.044 | AB26: m3
B27: 2 | C27: 1113.8 | D27: m2 | F27: m2 | G27: =C27*0.2*0.1 -> 22.276 | H27: m3 | I27: =C27/4*2 -> 556.9 | J27: m2 | K27: =G27*5*0.45 -> 50.121 | L27: m3 | M27: =C27*0.01 -> 11.138 | N27: m3 | O27: =C27*0.04*0.05 -> 2.2276 | P27: 0.04 | Q27: =O27/P27 -> 55.69 | R27: m3 | S27: 22.276 | T27: m3 | U27: =G27/5 -> 4.4552 | V27: m3 | X27: m3 | Y27: =G27/4 -> 5.569 | Z27: m3 | AA27: =C27*0.06 -> 66.828 | AB27: m3
A28: 18. sz. út | B28: 2 | C28: 884.2 | D28: m2 | F28: m2 | G28: =C28*0.2*0.1 -> 17.684 | H28: m3 | I28: =C28/4*2 -> 442.1 | J28: m2 | K28: =G28*5*0.45 -> 39.789 | L28: m3 | M28: =C28*0.01 -> 8.842 | N28: m3 | O28: =C28*0.04*0.05 -> 1.7684 | P28: 0.04 | Q28: =O28/P28 -> 44.21 | R28: m3 | S28: 17.684 | T28: m3 | U28: =G28/5 -> 3.5368 | V28: m3 | X28: m3 | Y28: =G28/4 -> 4.421 | Z28: m3 | AA28: =C28*0.06 -> 53.052 | AB28: m3
A29: 19. sz. út | B29: 2 | C29: 685.7 | D29: m2 | F29: m2 | G29: =C29*0.2*0.1 -> 13.714 | H29: m3 | I29: =C29/3*2 -> 457.13333 | J29: m2 | K29: =G29*5*0.45 -> 30.8565 | L29: m3 | M29: =C29*0.01 -> 6.857 | N29: m3 | O29: =C29*0.04*0.05 -> 1.3714 | P29: 0.04 | Q29: =O29/P29 -> 34.285 | R29: m3 | S29: 13.714 | T29: m3 | U29: =G29/5 -> 2.7428 | V29: m3 | X29: m3 | Y29: =G29/4 -> 3.4285 | Z29: m3 | AA29: =C29*0.06 -> 41.142 | AB29: m3
A30: 20. sz. út | B30: 1 | C30: 1727.7 | D30: m2 | F30: m2 | G30: =C30*0.2*0.3 -> 103.662 | H30: m3 | I30: =C30/4*2 -> 863.85 | J30: m2 | K30: =G30*5*0.45 -> 233.2395 | L30: m3 | M30: =C30*0.01 -> 17.277 | N30: m3 | O30: =C30*0.04*0.05 -> 3.4554 | P30: 0.04 | Q30: =O30/P30 -> 86.385 | R30: m3 | S30: 144.81 | T30: m3 | U30: =G30/5 -> 20.7324 | V30: m3 | X30: m3 | Y30: =G30/4 -> 25.9155 | Z30: m3 | AA30: =C30*0.06 -> 103.662 | AB30: m3
B31: 2 | D31: m2 | F31: m2 | G31: =C31*0.2*0.1 -> 0 | H31: m3 | I31: =C31/4*2 -> 0 | J31: m2 | K31: =G31*5*0.45 -> 0 | L31: m3 | M31: =C31*0.01 -> 0 | N31: m3 | O31: =C31*0.04*0.05 -> 0 | P31: 0.04 | Q31: =O31/P31 -> 0 | R31: m3 | S31: 13.184 | T31: m3 | U31: =G31/5 -> 0 | V31: m3 | X31: m3 | Y31: =G31/4 -> 0 | Z31: m3 | AA31: =C31*0.06 -> 0 | AB31: m3
A32: 21. sz. út | B32: 4 | C32: 311 | D32: m2 | F32: m2 | H32: m3 | I32: =C32/4*2 -> 155.5 | J32: m2 | L32: m3 | M32: =C32*0.01 -> 3.11 | N32: m3 | P32: 0.04 | Q32: =O32/P32 -> 0 | R32: m3 | T32: m3 | V32: m3 | X32: m3 | Z32: m3 | AA32: =C32*0.06 -> 18.66 | AB32: m3
A33: 22. sz. út | B33: 1 | C33: 47.4 | D33: m2 | F33: m2 | G33: =C33*0.2*0.3 -> 2.844 | H33: m3 | I33: =C33/3*2 -> 31.6 | J33: m2 | K33: =G33*5*0.45 -> 6.399 | L33: m3 | M33: =C33*0.01 -> 0.474 | N33: m3 | O33: =C33*0.04*0.05 -> 0.0948 | P33: 0.04 | Q33: =O33/P33 -> 2.37 | R33: m3 | S33: 2.844 | T33: m3 | U33: =G33/5 -> 0.5688 | V33: m3 | X33: m3 | Y33: =G33/4 -> 0.711 | Z33: m3 | AA33: =C33*0.06 -> 2.844 | AB33: m3
B34: 5 | C34: 449.3 | D34: m2 | E34: 449.3 | F34: m2 | H34: m3 | I34: =C34/3*2 -> 299.53333 | J34: m2 | L34: m3 | N34: m3 | P34: 0.04 | Q34: =O34/P34 -> 0 | R34: m3 | T34: m3 | V34: m3 | W34: =C34*0.25 -> 112.325 | X34: m3 | Z34: m3 | AB34: m3

Sheet ME(2)
B1: 1. sz. út | E1: 2. sz. út | F1: 3. sz. út | G1: 4. sz. út | H1: 5. sz. út | I1: 6. sz. út | J1: 7. sz. út | L1: 8. sz. út | N1: 9. sz. út | O1: 10. sz. út | P1: 11. sz. út | Q1: 12. sz út. | R1: 13. sz. út | T1: 14. sz. út | V1: 15. sz. út | W1: 16. sz. út | X1: 17. sz. út | Z1: 18. sz. út | AA1: 19. sz. út | AB1: 20. sz. út | AD1: 21. sz. út | AE1: 22. sz. út
A2: Típus | B2: 5 | C2: 3 | D2: 4 | E2: 2 | F2: 5 | G2: 2 | H2: 1 | I2: 1 | J2: 1 | K2: 3 | L2: 3 | M2: 2 | N2: 2 | O2: 1 | P2: 5 | Q2: 5 | R2: 1 | S2: 5 | T2: 1 | U2: 5 | V2: 3 | W2: 2 | X2: 3 | Y2: 2 | Z2: 2 | AA2: 2 | AB2: 2 | AC2: 1 | AD2: 4 | AE2: 1 | AF2: 5 | AG2: Típus
A3: Mennyiség | B3: 468.9 | C3: 338.7 | E3: 345.8 | F3: 563.6 | G3: 1433.15 | H3: 831.4 | I3: 1102.1 | J3: 1047.1 | K3: 859.3 | L3: 472.7 | M3: 2149.4 | N3: 814.1 | O3: 804 | P3: 584.4 | Q3: 423.7 | R3: 47.4 | S3: 380.1 | T3: 217.1 | U3: 437.5 | V3: 436.4 | W3: 588.8 | X3: 617.4 | Y3: 1113.8 | Z3: 884.2 | AA3: 685.7 | AC3: 1727.7 | AD3: 311 | AE3: 47.4 | AF3: 449.3 | AG3: Mennyiség
B4: m2 | C4: m2 | D4: m2 | E4: m2 | F4: m2 | G4: m2 | H4: m2 | I4: m2 | J4: m2 | K4: m2 | L4: m2 | M4: m2 | N4: m2 | O4: m2 | P4: m2 | Q4: m2 | R4: m2 | S4: m2 | T4: m2 | U4: m2 | V4: m2 | W4: m2 | X4: m2 | Y4: m2 | Z4: m2 | AA4: m2 | AB4: m2 | AC4: m2 | AD4: m2 | AE4: m2 | AF4: m2
A5: Tükörkész | B5: 468.9 | F5: 563.6 | P5: 584.4 | Q5: 423.7 | S5: 380.1 | U5: 437.5 | AF5: 449.3 | AG5: Tükörkész
A6: m2 | B6: m2 | C6: m2 | D6: m2 | E6: m2 | F6: m2 | G6: m2 | H6: m2 | I6: m2 | J6: m2 | K6: m2 | L6: m2 | M6: m2 | N6: m2 | O6: m2 | P6: m2 | Q6: m2 | R6: m2 | S6: m2 | T6: m2 | U6: m2 | V6: m2 | W6: m2 | X6: m2 | Y6: m2 | Z6: m2 | AA6: m2 | AB6: m2 | AC6: m2 | AD6: m2 | AE6: m2 | AF6: m2 | AG6: m2
A7: Fagyv m3 | B7: =B41 -> 93.78 | C7: =C41 -> 0 | D7: =D41 -> 0 | E7: =E41 -> 6.916 | F7: =F41 -> 112.72 | G7: =G41 -> 28.663 | H7: =H41 -> 49.884 | I7: =I41 -> 66.126 | ... AG7: =AG41 -> 0
A8: Fagyv | E8: =E3*0.2*0.1 -> 6.916 | G8: =G3*0.2*0.1 -> 28.663 | H8: =H3*0.2*0.3 -> 49.884 | I8: =I3*0.2*0.3 -> 66.126 | J8: =J3*0.2*0.3 -> 62.826 | M8: =M3*0.2*0.1 -> 42.988 | N8: =N3*0.2*0.1 -> 16.282 | O8: =O3*0.2*0.3 -> 48.24 | R8: =R3*0.2*0.3 -> 2.844 | T8: =T3*0.2*0.3 -> 13.026 | W8: =W3*0.2*0.1 -> 11.776 | Y8: =Y3*0.2*0.1 -> 22.276 | Z8: =Z3*0.2*0.1 -> 17.684 | AA8: =AA3*0.2*0.1 -> 13.714 | AC8: =AC3*0.2*0.1 -> 34.554 | AE8: =AE3*0.2*0.3 -> 2.844 | AG8: Fagyv
A9: m2 | B9: =B8/0.2 -> 0 | C9: =C8/0.2 -> 0 | D9: =D8/0.2 -> 0 | E9: =E8/0.2 -> 34.58 | F9: =F8/0.2 -> 0 | G9: =G8/0.2 -> 143.315 | H9: =H8/0.2 -> 249.42 | I9: =I8/0.2 -> 330.63 | ... AA9: =AA8/0.2 -> 68.57 | AC9: =AC8/0.2 -> 172.77 | AD9: =AD8/0.2 -> 0 | AE9: =AE8/0.2 -> 14.22 | AF9: =AF8/0.2 -> 0 | AG9: m2
A10: m3 | B10: m3 | C10: m3 | D10: m3 | E10: m3 | F10: m3 | G10: m3 | H10: m3 | I10: m3 | J10: m3 | K10: m3 | L10: m3 | M10: m3 | N10: m3 | O10: m3 | P10: m3 | Q10: m3 | R10: m3 | S10: m3 | T10: m3 | U10: m3 | V10: m3 | W10: m3 | X10: m3 | Y10: m3 | Z10: m3 | AA10: m3 | AB10: m3 | AC10: m3 | AD10: m3 | AE10: m3 | AF10: m3 | AG10: m3
A11: Padka | B11: =B3*2/3 -> 312.6 | C11: =C3*2/3 -> 225.8 | E11: =E3/4*2 -> 172.9 | F11: =F3/3*2 -> 375.73333 | G11: =G3/3*2 -> 955.43333 | H11: =H3/3*2 -> 554.26667 | I11: =I3/4*2 -> 551.05 | J11: =J3/4*2 -> 523.55 | K11: =K3/4*2 -> 429.65 | L11: =L3/4*2 -> 236.35 | M11: =M3/4*2 -> 1074.7 | N11: =N3/4*2 -> 407.05 | O11: =O3/3*2 -> 536 | P11: =P3/3*2 -> 389.6 | Q11: =Q3/3*2 -> 282.46667 | R11: =R3/3*2 -> 31.6 | S11: =S3/3*2 -> 253.4 | T11: =T3/3*2 -> 144.73333 | U11: =U3/3*2 -> 291.66667 | V11: =V3/4*2 -> 218.2 | W11: =W3/4*2 -> 294.4 | X11: =X3/4*2 -> 308.7 | Y11: =Y3/4*2 -> 556.9 | Z11: =Z3/4*2 -> 442.1 | AA11: =AA3/3*2 -> 457.13333 | AC11: =AC3/4*2 -> 863.85 | AD11: =AD3/4*2 -> 155.5 | AE11: =AE3/3*2 -> 31.6 | AF11: =AF3/3*2 -> 299.53333 | AG11: Padka
A12: m2 | B12: m2 | C12: m2 | D12: m2 | E12: m2 | F12: m2 | G12: m2 | H12: m2 | I12: m2 | J12: m2 | K12: m2 | L12: m2 | M12: m2 | N12: m2 | O12: m2 | P12: m2 | Q12: m2 | R12: m2 | S12: m2 | T12: m2 | U12: m2 | V12: m2 | W12: m2 | X12: m2 | Y12: m2 | Z12: m2 | AA12: m2 | AB12: m2 | AC12: m2 | AD12: m2 | AE12: m2 | AF12: m2 | AG12: m2
A13: m3 | B13: =B11*0.1 -> 31.26 | C13: =C11*0.1 -> 22.58 | D13: =D11*0.1 -> 0 | E13: =E11*0.1 -> 17.29 | F13: =F11*0.1 -> 37.573333 | G13: =G11*0.1 -> 95.543333 | H13: =H11*0.1 -> 55.426667 | I13: =I11*0.1 -> 55.105 | ... AA13: =AA11*0.1 -> 45.713333 | AC13: =AC11*0.1 -> 86.385 | AD13: =AD11*0.1 -> 15.55 | AE13: =AE11*0.1 -> 3.16 | AF13: =AF11*0.1 -> 29.953333 | AG13: m3
A14: Bontás | AG14: Bontás
A15: m2 | B15: =B8/0.2 -> 0 | C15: =C8/0.2 -> 0 | D15: =D8/0.2 -> 0 | E15: =E8/0.2 -> 34.58 | F15: =F8/0.2 -> 0 | G15: =G8/0.2 -> 143.315 | H15: =H8/0.2 -> 249.42 | I15: =I8/0.2 -> 330.63 | ... AF15: =AF8/0.2 -> 0 | AG15: m2
A16: Marás | C16: =C3*0.01 -> 3.387 | D16: =D3*0.01 -> 0 | E16: =E3*0.01 -> 3.458 | G16: =G3*0.01 -> 14.3315 | H16: =H3*0.01 -> 8.314 | I16: =I3*0.01 -> 11.021 | J16: =J3*0.01 -> 10.471 | K16: =K3*0.01 -> 8.593 | L16: =L3*0.01 -> 4.727 | M16: =M3*0.01 -> 21.494 | N16: =N3*0.01 -> 8.141 | O16: =O3*0.01 -> 8.04 | R16: =R3*0.01 -> 0.474 | T16: =T3*0.01 -> 2.171 | V16: =V3*0.01 -> 4.364 | W16: =W3*0.01 -> 5.888 | X16: =X3*0.01 -> 6.174 | Y16: =Y3*0.01 -> 11.138 | Z16: =Z3*0.01 -> 8.842 | AA16: =AA3*0.01 -> 6.857 | AC16: =AC3*0.01 -> 17.277 | AD16: =AD3*0.01 -> 3.11 | AE16: =AE3*0.01 -> 0.474 | AG16: Marás
A17: m3 | B17: m3 | C17: m3 | D17: m3 | E17: m3 | F17: m3 | G17: m3 | H17: m3 | I17: m3 | J17: m3 | K17: m3 | L17: m3 | M17: m3 | N17: m3 | O17: m3 | P17: m3 | Q17: m3 | R17: m3 | S17: m3 | T17: m3 | U17: m3 | V17: m3 | W17: m3 | X17: m3 | Y17: m3 | Z17: m3 | AA17: m3 | AB17: m3 | AC17: m3 | AD17: m3 | AE17: m3 | AF17: m3 | AG17: m3
A18: Kátyúz | C18: 16.935 | D18: 0 | E18: 17.29 | F18: 0 | G18: 71.6575 | H18: 41.57 | I18: 55.105 | J18: 52.355 | K18: 42.965 | L18: 23.635 | M18: 107.47 | N18: 40.705 | O18: 40.2 | P18: 0 | Q18: 0 | R18: 2.37 | S18: 0 | T18: 10.855 | U18: 0 | V18: 21.82 | W18: 29.44 | X18: 30.87 | Y18: 55.69 | Z18: 44.21 | AA18: 34.285 | AC18: =AC3*0.05 -> 86.385 | AD18: 0 | AE18: 2.37 | AF18: 0 | AG18: Kátyúz
A19: m3 | B19: m3 | C19: m3 | D19: m3 | E19: m3 | F19: m3 | G19: m3 | H19: m3 | I19: m3 | J19: m3 | K19: m3 | L19: m3 | M19: m3 | N19: m3 | O19: m3 | P19: m3 | Q19: m3 | R19: m3 | S19: m3 | T19: m3 | U19: m3 | V19: m3 | W19: m3 | X19: m3 | Y19: m3 | Z19: m3 | AA19: m3 | AB19: m3 | AC19: m3 | AD19: m3 | AE19: m3 | AF19: m3 | AG19: m3
A20: FZKA | E20: 6.916 | G20: 28.663 | H20: 49.884 | I20: 66.126 | J20: 62.826 | M20: 42.988 | N20: 16.282 | O20: 48.24 | R20: 2.844 | T20: 13.026 | W20: 11.776 | Y20: 22.276 | Z20: 17.684 | AA20: 13.714 | AC20: =AC3*0.2*0.1 -> 34.554 | AE20: 2.844 | AG20: FZKA
A21: m3 | B21: m3 | C21: m3 | D21: m3 | E21: m3 | F21: m3 | G21: m3 | H21: m3 | I21: m3 | J21: m3 | K21: m3 | L21: m3 | M21: m3 | N21: m3 | O21: m3 | P21: m3 | Q21: m3 | R21: m3 | S21: m3 | T21: m3 | U21: m3 | V21: m3 | W21: m3 | X21: m3 | Y21: m3 | Z21: m3 | AA21: m3 | AB21: m3 | AC21: m3 | AD21: m3 | AE21: m3 | AF21: m3 | AG21: m3
A22: 0/20 | E22: =E8/5 -> 1.3832 | G22: =G8/5 -> 5.7326 | H22: =H8/5 -> 9.9768 | I22: =I8/5 -> 13.2252 | J22: =J8/5 -> 12.5652 | M22: =M8/5 -> 8.5976 | N22: =N8/5 -> 3.2564 | O22: =O8/5 -> 9.648 | R22: =R8/5 -> 0.5688 | T22: =T8/5 -> 2.6052 | W22: =W8/5 -> 2.3552 | Y22: =Y8/5 -> 4.4552 | Z22: =Z8/5 -> 3.5368 | AA22: =AA8/5 -> 2.7428 | AB22: =AB8/5 -> 0 | AC22: =AC8/5 -> 6.9108 | AE22: =AE8/5 -> 0.5688 | AG22: 0/20
A23: m3 | B23: m3 | C23: m3 | D23: m3 | E23: m3 | F23: m3 | G23: m3 | H23: m3 | I23: m3 | J23: m3 | K23: m3 | L23: m3 | M23: m3 | N23: m3 | O23: m3 | P23: m3 | Q23: m3 | R23: m3 | S23: m3 | T23: m3 | U23: m3 | V23: m3 | W23: m3 | X23: m3 | Y23: m3 | Z23: m3 | AA23: m3 | AB23: m3 | AC23: m3 | AD23: m3 | AE23: m3 | AF23: m3 | AG23: m3
A24: M56 | B24: =B3*0.25 -> 117.225 | F24: =F3*0.25 -> 140.9 | P24: =P3*0.25 -> 146.1 | Q24: =Q3*0.25 -> 105.925 | S24: =S3*0.25 -> 95.025 | U24: =U3*0.25 -> 109.375 | AF24: =AF3*0.25 -> 112.325 | AG24: M56
A25: m3 | B25: m3 | C25: m3 | D25: m3 | E25: m3 | F25: m3 | G25: m3 | H25: m3 | I25: m3 | J25: m3 | K25: m3 | L25: m3 | M25: m3 | N25: m3 | O25: m3 | P25: m3 | Q25: m3 | R25: m3 | S25: m3 | T25: m3 | U25: m3 | V25: m3 | W25: m3 | X25: m3 | Y25: m3 | Z25: m3 | AA25: m3 | AB25: m3 | AC25: m3 | AD25: m3 | AE25: m3 | AF25: m3 | AG25: m3
A26: AC11 köt | E26: =E8/4 -> 1.729 | G26: =G8/4 -> 7.16575 | H26: =H8/4 -> 12.471 | I26: =I8/4 -> 16.5315 | J26: =J8/4 -> 15.7065 | M26: =M8/4 -> 10.747 | N26: =N8/4 -> 4.0705 | O26: =O8/4 -> 12.06 | R26: =R8/4 -> 0.711 | T26: =T8/4 -> 3.2565 | W26: =W8/4 -> 2.944 | Y26: =Y8/4 -> 5.569 | Z26: =Z8/4 -> 4.421 | AA26: =AA8/4 -> 3.4285 | AB26: =AB8/4 -> 0 | AC26: =AC8/4 -> 8.6385 | AE26: =AE8/4 -> 0.711 | AG26: AC11 köt
A27: m3 | B27: m3 | C27: m3 | D27: m3 | E27: m3 | F27: m3 | G27: m3 | H27: m3 | I27: m3 | J27: m3 | K27: m3 | L27: m3 | M27: m3 | N27: m3 | O27: m3 | P27: m3 | Q27: m3 | R27: m3 | S27: m3 | T27: m3 | U27: m3 | V27: m3 | W27: m3 | X27: m3 | Y27: m3 | Z27: m3 | AA27: m3 | AB27: m3 | AC27: m3 | AD27: m3 | AE27: m3 | AF27: m3 | AG27: m3
A28: AC11 kop | C28: =C3*0.06 -> 20.322 | D28: =D3*0.06 -> 0 | E28: =E3*0.06 -> 20.748 | G28: =G3*0.06 -> 85.989 | H28: =H3*0.06 -> 49.884 | I28: =I3*0.06 -> 66.126 | J28: =J3*0.06 -> 62.826 | K28: =K3*0.06 -> 51.558 | L28: =L3*0.06 -> 28.362 | M28: =M3*0.06 -> 128.964 | N28: =N3*0.06 -> 48.846 | O28: =O3*0.06 -> 48.24 | R28: =R3*0.06 -> 2.844 | T28: =T3*0.06 -> 13.026 | V28: =V3*0.06 -> 26.184 | W28: =W3*0.06 -> 35.328 | X28: =X3*0.06 -> 37.044 | Y28: =Y3*0.06 -> 66.828 | Z28: =Z3*0.06 -> 53.052 | AA28: =AA3*0.06 -> 41.142 | AC28: =AC3*0.06 -> 103.662 | AD28: =AD3*0.06 -> 18.66 | AE28: =AE3*0.06 -> 2.844 | AG28: AC11 kop
A29: m3 | B29: m3 | C29: m3 | D29: m3 | E29: m3 | F29: m3 | G29: m3 | H29: m3 | I29: m3 | J29: m3 | K29: m3 | L29: m3 | M29: m3 | N29: m3 | O29: m3 | P29: m3 | Q29: m3 | R29: m3 | S29: m3 | T29: m3 | U29: m3 | V29: m3 | W29: m3 | X29: m3 | Y29: m3 | Z29: m3 | AA29: m3 | AB29: m3 | AC29: m3 | AD29: m3 | AE29: m3 | AF29: m3 | AG29: m3
B32: 1. sz. út | E32: 2. sz. út | F32: 3. sz. út | G32: 4. sz. út | H32: 5. sz. út | I32: 6. sz. út | J32: 7. sz. út | L32: 8. sz. út | N32: 9. sz. út | O32: 10. sz. út | P32: 11. sz. út | Q32: 12. sz út. | R32: 13. sz. út | T32: 14. sz. út | V32: 15. sz. út | W32: 16. sz. út | X32: 17. sz. út | Z32: 18. sz. út | AA32: 19. sz. út | AB32: 20. sz. út | AD32: 21. sz. út | AE32: 22. sz. út
A33: Típus | B33: 5 | C33: 3 | D33: 4 | E33: 2 | F33: 5 | G33: 2 | H33: 1 | I33: 1 | J33: 1 | K33: 3 | L33: 3 | M33: 2 | N33: 2 | O33: 1 | P33: 5 | Q33: 5 | R33: 1 | S33: 5 | T33: 1 | U33: 5 | V33: 3 | W33: 2 | X33: 3 | Y33: 2 | Z33: 2 | AA33: 2 | AB33: 2 | AC33: 1 | AD33: 4 | AE33: 1 | AF33: 5 | AG33: Típus
B34: 468.9 | C34: 338.7 | E34: 345.8 | F34: 563.6 | G34: 1433.15 | H34: 831.4 | I34: 1102.1 | J34: 1047.1 | K34: 859.3 | L34: 472.7 | M34: 2149.4 | N34: 814.1 | O34: 804 | P34: 584.4 | Q34: 423.7 | R34: 47.4 | S34: 380.1 | T34: 217.1 | U34: 437.5 | V34: 436.4 | W34: 588.8 | X34: 617.4 | Y34: 1113.8 | Z34: 884.2 | AA34: 685.7 | AC34: 1727.7 | AD34: 311 | AE34: 47.4 | AF34: 449.3
A35: 1 | H35: 831.4 | I35: 1102.1 | J35: 1047.1 | O35: 804 | R35: 47.4 | T35: 217.1 | AC35: 1727.7 | AE35: 47.4
A36: 2 | E36: 345.8 | G36: 1433.15 | M36: 2149.4 | N36: 814.1 | W36: 588.8 | Y36: 1113.8 | Z36: 884.2 | AA36: 685.7
A37: 5 | B37: 468.9 | F37: 563.6 | P37: 584.4 | Q37: 423.7 | S37: 380.1 | U37: 437.5 | AF37: 449.3
A38: 1 hk | B38: =B35*0.3*0.2 -> 0 | C38: =C35*0.3*0.2 -> 0 | D38: =D35*0.3*0.2 -> 0 | E38: =E35*0.3*0.2 -> 0 | F38: =F35*0.3*0.2 -> 0 | G38: =G35*0.3*0.2 -> 0 | H38: =H35*0.3*0.2 -> 49.884 | I38: =I35*0.3*0.2 -> 66.126 | ... AG38: =AG35*0.3*0.2 -> 0
A39: 2hk | B39: =B36*0.1*0.2 -> 0 | C39: =C36*0.1*0.2 -> 0 | D39: =D36*0.1*0.2 -> 0 | E39: =E36*0.1*0.2 -> 6.916 | F39: =F36*0.1*0.2 -> 0 | G39: =G36*0.1*0.2 -> 28.663 | H39: =H36*0.1*0.2 -> 0 | I39: =I36*0.1*0.2 -> 0 | ... AG39: =AG36*0.1*0.2 -> 0
A40: 5hk | B40: =B37*0.2 -> 93.78 | C40: =C37*0.2 -> 0 | D40: =D37*0.2 -> 0 | E40: =E37*0.2 -> 0 | F40: =F37*0.2 -> 112.72 | G40: =G37*0.2 -> 0 | H40: =H37*0.2 -> 0 | I40: =I37*0.2 -> 0 | ... AG40: =AG37*0.2 -> 0
A41: Össz hk | B41: =B38+B39+B40 -> 93.78 | C41: =C38+C39+C40 -> 0 | D41: =D38+D39+D40 -> 0 | E41: =E38+E39+E40 -> 6.916 | F41: =F38+F39+F40 -> 112.72 | G41: =G38+G39+G40 -> 28.663 | H41: =H38+H39+H40 -> 49.884 | I41: =I38+I39+I40 -> 66.126 | ... AG41: =AG38+AG39+AG40 -> 0

Sheet Menny
A1: TISZAALPÁR 2015 ÉVI ÜTEM MENNYISÉGSZÁMÍTÁS | F1: (jav V.29)
A3: Tételszám | B3: Megnevezés | C3: M.e. | F3: 4.típ | AJ3: 1 típ | AK3: 2.típus
D4: 1. sz. út | G4: 1 össz | H4: 2. sz. út | I4: 3. sz. út | J4: 4. sz. út | K4: 5. sz. út | L4: 6. sz. út | M4: 7. sz. út | O4: 7 össz | P4: 8. sz. út | R4: 8 össz | S4: 9. sz. út | T4: 10. sz. út | U4: 11. sz. út | V4: 12. sz út. | W4: 13. sz. út | Y4: 13 össz | Z4: 14. sz. út | AB4: 14 össz | AC4: 15. sz. út | AD4: 16. sz. út | AE4: 17. sz. út | AG4: 17 össz | AH4: 18. sz. út | AI4: 19. sz. út | AJ4: 20. sz. út | AL4: 20 össz | AM4: 21. sz. út | AN4: 22. sz. út | AP4: 22 össz
A5: 10 | B5: ÁLTALÁNOS TÉTELEK | O5: =M5+N5 -> 0 | R5: =P5+Q5 -> 0 | Y5: =W5+X5 -> 0 | AB5: =Z5+AA5 -> 0 | AG5: =AE5+AF5 -> 0 | AL5: =AJ5+AK5 -> 0 | AP5: =AN5+AO5 -> 0 | AQ5: 10 | AR5: ÁLTALÁNOS TÉTELEK
A6: 10-200 | B6: Megvalósulási tervek elkészítése | C6: db | G6: 1 | H6: 1 | I6: 1 | J6: 1 | K6: 1 | L6: 1 | O6: 1 | R6: 1 | S6: 1 | T6: 1 | U6: 1 | V6: 1 | Y6: 1 | AB6: 1 | AC6: 1 | AD6: 1 | AG6: 1 | AH6: 1 | AI6: 1 | AL6: 1 | AM6: 1 | AP6: 1 | AQ6: 10-200 | AR6: Megvalósulási tervek elkészítése | AS6: db
A7: K | B7: Ideiglenes forgalomterelés építés, bontás | C7: készlet | G7: 1 | H7: 1 | I7: 1 | J7: 1 | K7: 1 | L7: 1 | O7: 1 | R7: 1 | S7: 1 | T7: 1 | U7: 1 | V7: 1 | Y7: 1 | AB7: 1 | AC7: 1 | AD7: 1 | AG7: 1 | AH7: 1 | AI7: 1 | AL7: 1 | AM7: 1 | AP7: 1 | AQ7: K | AR7: Ideiglenes forgalomterelés építés, bontás | AS7: készlet
G8: =D8+E8+F8 -> 0 | O8: =M8+N8 -> 0 | R8: =P8+Q8 -> 0 | Y8: =W8+X8 -> 0 | AB8: =Z8+AA8 -> 0 | AG8: =AE8+AF8 -> 0 | AL8: =AJ8+AK8 -> 0 | AP8: =AN8+AO8 -> 0
A9: 31-2 | B9: ELŐKÉSZÍTŐ- ÉS FÖLDMUNKÁK | G9: =D9+E9+F9 -> 0 | O9: =M9+N9 -> 0 | R9: =P9+Q9 -> 0 | Y9: =W9+X9 -> 0 | AB9: =Z9+AA9 -> 0 | AG9: =AE9+AF9 -> 0 | AL9: =AJ9+AK9 -> 0 | AP9: =AN9+AO9 -> 0 | AQ9: 31-2 | AR9: ELŐKÉSZÍTŐ- ÉS FÖLDMUNKÁK
A10: 31-231 | B10: Aszfaltburkolatok felső rétegének lemarása, | C10: m3 | E10: 3.387 | G10: =D10+E10+F10 -> 3.387 | H10: 3.458 | J10: 14.3315 | K10: 8.314 | L10: 11.021 | M10: 10.471 | N10: 8.593 | O10: =M10+N10 -> 19.064 | P10: 4.727 | Q10: 21.494 | R10: =P10+Q10 -> 26.221 | S10: 8.141 | T10: 8.04 | W10: 0.474 | Y10: =W10+X10 -> 0.474 | Z10: 2.171 | AB10: =Z10+AA10 -> 2.171 | AC10: 4.364 | AD10: 5.888 | AE10: 6.174 | AF10: 11.138 | AG10: =AE10+AF10 -> 17.312 | AH10: 8.842 | AI10: 6.857 | AJ10: ='ME(2)'!AC16 -> 17.277 | AL10: =AJ10+AK10 -> 17.277 | AM10: 3.11 | AN10: 0.474 | AP10: =AN10+AO10 -> 0.474 | AQ10: 31-231 | AR10: Aszfaltburkolatok felső rétegének lemarása, | AS10: m3
A11: 31-253 | B11: Szórt és makadám útalapok bontása | C11: m2 | D11: 0 | E11: 0 | F11: 0 | H11: 34.58 | I11: 0 | J11: 143.315 | K11: 249.42 | L11: 330.63 | M11: 314.13 | N11: 0 | O11: =M11+N11 -> 314.13 | P11: 0 | Q11: 214.94 | R11: =P11+Q11 -> 214.94 | S11: 81.41 | T11: 241.2 | U11: 0 | V11: 0 | W11: 14.22 | X11: 0 | Y11: =W11+X11 -> 14.22 | Z11: 65.13 | AA11: 0 | AB11: =Z11+AA11 -> 65.13 | AC11: 0 | AD11: 58.88 | AE11: 0 | AF11: 111.38 | AG11: =AE11+AF11 -> 111.38 | AH11: 88.42 | AI11: 68.57 | AJ11: ='ME(2)'!AC15 -> 172.77 | AL11: =AJ11+AK11 -> 172.77 | AM11: 0 | AN11: 14.22 | AO11: 0 | AP11: =AN11+AO11 -> 14.22 | AQ11: 31-253 | AR11: Szórt és makadám útalapok bontása | AS11: m2
G12: =D12+E12+F12 -> 0 | O12: =M12+N12 -> 0 | R12: =P12+Q12 -> 0 | Y12: =W12+X12 -> 0 | AB12: =Z12+AA12 -> 0 | AG12: =AE12+AF12 -> 0 | AL12: =AJ12+AK12 -> 0 | AP12: =AN12+AO12 -> 0
A13: 31-3 | B13: BURKOLAT ELŐKÉSZÍTÉS | G13: =D13+E13+F13 -> 0 | O13: =M13+N13 -> 0 | R13: =P13+Q13 -> 0 | Y13: =W13+X13 -> 0 | AB13: =Z13+AA13 -> 0 | AG13: =AE13+AF13 -> 0 | AL13: =AJ13+AK13 -> 0 | AP13: =AN13+AO13 -> 0 | AQ13: 31-3 | AR13: BURKOLAT ELŐKÉSZÍTÉS
A14: 31-323 | B14: Kátyúk javítása AC-11 keverékkel | C14: m2 | E14: 16.935 | F14: 0 | G14: =D14+E14+F14 -> 16.935 | H14: 17.29 | I14: 0 | J14: 71.6575 | K14: 41.57 | L14: 55.105 | M14: 52.355 | N14: 42.965 | O14: =M14+N14 -> 95.32 | P14: 23.635 | Q14: 107.47 | R14: =P14+Q14 -> 131.105 | S14: 40.705 | T14: 40.2 | U14: 0 | V14: 0 | W14: 2.37 | X14: 0 | Y14: =W14+X14 -> 2.37 | Z14: 10.855 | AA14: 0 | AB14: =Z14+AA14 -> 10.855 | AC14: 21.82 | AD14: 29.44 | AE14: 30.87 | AF14: 55.69 | AG14: =AE14+AF14 -> 86.56 | AH14: 44.21 | AI14: 34.285 | AJ14: ='ME(2)'!AC18 -> 86.385 | AL14: =AJ14+AK14 -> 86.385 | AM14: 0 | AN14: 2.37 | AO14: 0 | AP14: =AN14+AO14 -> 2.37 | AQ14: 31-323 | AR14: Kátyúk javítása AC-11 keverékkel | AS14: m2
G15: =D15+E15+F15 -> 0 | O15: =M15+N15 -> 0 | R15: =P15+Q15 -> 0 | Y15: =W15+X15 -> 0 | AB15: =Z15+AA15 -> 0 | AG15: =AE15+AF15 -> 0 | AL15: =AJ15+AK15 -> 0 | AP15: =AN15+AO15 -> 0
A16: 32-3 | B16: EGYÉB FÖLDMUNKÁK | G16: =D16+E16+F16 -> 0 | O16: =M16+N16 -> 0 | R16: =P16+Q16 -> 0 | Y16: =W16+X16 -> 0 | AB16: =Z16+AA16 -> 0 | AG16: =AE16+AF16 -> 0 | AL16: =AJ16+AK16 -> 0 | AP16: =AN16+AO16 -> 0 | AQ16: 32-3 | AR16: EGYÉB FÖLDMUNKÁK
A17: 32-310 | B17: Alkalmatlan altalajok kitermelése elszállítással | C17: m3 | D17: =0.8*D25 -> 93.78 | E17: =0.8*E25 -> 0 | F17: =0.8*F25 -> 0 | G17: =0.8*G25 -> 93.78 | H17: =0.8*H25 -> 0 | I17: =0.8*I25 -> 112.72 | J17: =0.8*J25 -> 0 | K17: =0.8*K25 -> 0 | ... AI17: =0.8*AI25 -> 0 | AK17: =0.8*AK25 -> 0 | AL17: =0.8*AL25 -> 0 | AM17: =0.8*AM25 -> 0 | AN17: =0.8*AN25 -> 0 | AO17: =0.8*AO25 -> 89.86 | AP17: =0.8*AP25 -> 89.86 | AQ17: 32-310 | AR17: Alkalmatlan altalajok kitermelése elszállítással | AS17: m3
A18: 32-315 | B18: Padka nyesése 10 cm vastagságig, elszállí | C18: m2 | D18: 312.6 | E18: 225.8 | G18: =D18+E18+F18 -> 538.4 | H18: 172.9 | I18: 375.73333 | J18: 955.43333 | K18: 554.26667 | L18: 551.05 | M18: 523.55 | N18: 429.65 | O18: =M18+N18 -> 953.2 | P18: 236.35 | Q18: 1074.7 | R18: =P18+Q18 -> 1311.05 | S18: 407.05 | T18: 536 | U18: 389.6 | V18: 282.46667 | W18: 31.6 | X18: 253.4 | Y18: =W18+X18 -> 285 | Z18: 144.73333 | AA18: 291.66667 | AB18: =Z18+AA18 -> 436.4 | AC18: 218.2 | AD18: 294.4 | AE18: 308.7 | AF18: 556.9 | AG18: =AE18+AF18 -> 865.6 | AH18: 442.1 | AI18: 457.13333 | AJ18: ='ME(2)'!AC11 -> 863.85 | AL18: =AJ18+AK18 -> 863.85 | AM18: 155.5 | AN18: 31.6 | AO18: 299.53333 | AP18: =AN18+AO18 -> 331.13333 | AQ18: 32-315 | AR18: Padka nyesése 10 cm vastagságig, elszállí | AS18: m2
C19: m2 | D19: 0 | E19: 0 | F19: 0 | G19: =D19+E19+F19 -> 0 | H19: 34.58 | I19: 0 | J19: 143.315 | K19: 249.42 | L19: 330.63 | M19: 314.13 | N19: 0 | O19: =M19+N19 -> 314.13 | P19: 0 | Q19: 214.94 | R19: =P19+Q19 -> 214.94 | S19: 81.41 | T19: 241.2 | U19: 0 | V19: 0 | W19: 14.22 | X19: 0 | Y19: =W19+X19 -> 14.22 | Z19: 65.13 | AA19: 0 | AB19: =Z19+AA19 -> 65.13 | AC19: 0 | AD19: 58.88 | AE19: 0 | AF19: 111.38 | AG19: =AE19+AF19 -> 111.38 | AH19: 88.42 | AI19: 68.57 | AJ19: 724.05 | AL19: =AJ19+AK19 -> 724.05 | AM19: 0 | AN19: 14.22 | AO19: 0 | AP19: =AN19+AO19 -> 14.22 | AS19: m2
A20: 32-331 | B20: Védőréteg készítése homokos kavicsból | C20: m3 | D20: ='ME(2)'!B41 -> 93.78 | E20: ='ME(2)'!C41 -> 0 | F20: ='ME(2)'!D41 -> 0 | G20: =D20+E20+F20 -> 93.78 | H20: ='ME(2)'!E41 -> 6.916 | I20: ='ME(2)'!F41 -> 112.72 | J20: ='ME(2)'!G41 -> 28.663 | K20: ='ME(2)'!H41 -> 49.884 | L20: ='ME(2)'!I41 -> 66.126 | M20: ='ME(2)'!J41 -> 62.826 | N20: ='ME(2)'!K41 -> 0 | O20: =M20+N20 -> 62.826 | P20: ='ME(2)'!L41 -> 0 | Q20: ='ME(2)'!M41 -> 42.988 | R20: =P20+Q20 -> 42.988 | S20: ='ME(2)'!N41 -> 16.282 | T20: ='ME(2)'!O41 -> 48.24 | U20: ='ME(2)'!P41 -> 116.88 | V20: ='ME(2)'!Q41 -> 84.74 | W20: ='ME(2)'!R41 -> 2.844 | X20: ='ME(2)'!S41 -> 76.02 | Y20: =W20+X20 -> 78.864 | Z20: ='ME(2)'!T41 -> 13.026 | AA20: ='ME(2)'!U41 -> 87.5 | AB20: =Z20+AA20 -> 100.526 | AC20: ='ME(2)'!V41 -> 0 | AD20: ='ME(2)'!W41 -> 11.776 | AE20: ='ME(2)'!X41 -> 0 | AF20: ='ME(2)'!Y41 -> 22.276 | AG20: =AE20+AF20 -> 22.276 | AH20: ='ME(2)'!Z41 -> 17.684 | AI20: ='ME(2)'!AA41 -> 13.714 | AJ20: ='ME(2)'!AC41 -> 103.662 | AL20: =AJ20+AK20 -> 103.662 | AM20: ='ME(2)'!AD41 -> 0 | AN20: ='ME(2)'!AE41 -> 2.844 | AO20: ='ME(2)'!AF41 -> 89.86 | AP20: =AN20+AO20 -> 92.704 | AQ20: 32-331 | AR20: Védőréteg készítése homokos kavicsból | AS20: m3
A21: 33 | B21: ÚTÉPÍTÉS ÉS EGYÉB PÁLYASZERKEZET | G21: =D21+E21+F21 -> 0 | O21: =M21+N21 -> 0 | R21: =P21+Q21 -> 0 | Y21: =W21+X21 -> 0 | AB21: =Z21+AA21 -> 0 | AG21: =AE21+AF21 -> 0 | AL21: =AJ21+AK21 -> 0 | AP21: =AN21+AO21 -> 0 | AQ21: 33 | AR21: ÚTÉPÍTÉS ÉS EGYÉB PÁLYASZERKEZET
A22: 33-310 | B22: Z 0/20 zúzottkő terítés | C22: m3 | G22: =D22+E22+F22 -> 0 | H22: 1.3832 | J22: 5.7326 | K22: 9.9768 | L22: 13.2252 | M22: 12.5652 | O22: =M22+N22 -> 12.5652 | Q22: 8.5976 | R22: =P22+Q22 -> 8.5976 | S22: 3.2564 | T22: 9.648 | W22: 0.5688 | Y22: =W22+X22 -> 0.5688 | Z22: 2.6052 | AB22: =Z22+AA22 -> 2.6052 | AD22: 2.3552 | AF22: 4.4552 | AG22: =AE22+AF22 -> 4.4552 | AH22: 3.5368 | AI22: 2.7428 | AJ22: 28.962 | AL22: =AJ22+AK22 -> 28.962 | AN22: 0.5688 | AP22: =AN22+AO22 -> 0.5688 | AQ22: 33-310 | AR22: Z 0/20 zúzottkő terítés | AS22: m3
A23: 33-320 | B23: Folyamatos szemeloszlású zúzottkő útalap | C23: m3 | D23: =D24+D25 -> 117.225 | E23: =E24+E25 -> 0 | F23: =F24+F25 -> 0 | G23: =G24+G25 -> 117.225 | H23: =H24+H25 -> 6.916 | I23: =I24+I25 -> 140.9 | J23: =J24+J25 -> 28.663 | K23: =K24+K25 -> 49.884 | ... AI23: =AI24+AI25 -> 13.714 | AJ23: ='ME(2)'!AC20 -> 34.554 | AL23: =AJ23+AK23 -> 34.554 | AM23: =AM24+AM25 -> 0 | AN23: =AN24+AN25 -> 2.844 | AO23: =AO24+AO25 -> 112.325 | AP23: =AP24+AP25 -> 115.169 | AQ23: 33-320 | AR23: Folyamatos szemeloszlású zúzottkő útalap | AS23: m3
C24: m3 | G24: =D24+E24+F24 -> 0 | H24: 6.916 | J24: 28.663 | K24: 49.884 | L24: 66.126 | M24: 62.826 | O24: =M24+N24 -> 62.826 | Q24: 42.988 | R24: =P24+Q24 -> 42.988 | S24: 16.282 | T24: 48.24 | W24: 2.844 | Y24: =W24+X24 -> 2.844 | Z24: 13.026 | AB24: =Z24+AA24 -> 13.026 | AD24: 11.776 | AF24: 22.276 | AG24: =AE24+AF24 -> 22.276 | AH24: 17.684 | AI24: 13.714 | AJ24: 144.81 | AL24: =AJ24+AK24 -> 144.81 | AN24: 2.844 | AP24: =AN24+AO24 -> 2.844 | AS24: m3
A25: 33-120 | B25: M56 jelű zúzottkő stabilizáció | C25: m3 | D25: 117.225 | G25: =D25+E25+F25 -> 117.225 | I25: 140.9 | O25: =M25+N25 -> 0 | R25: =P25+Q25 -> 0 | U25: 146.1 | V25: 105.925 | X25: 95.025 | Y25: =W25+X25 -> 95.025 | AA25: 109.375 | AB25: =Z25+AA25 -> 109.375 | AG25: =AE25+AF25 -> 0 | AL25: =AJ25+AK25 -> 0 | AO25: 112.325 | AP25: =AN25+AO25 -> 112.325 | AQ25: 33-120 | AR25: M56 jelű zúzottkő stabilizáció | AS25: m3
A26: 34-310 | B26: AC-11 kötő | C26: m3 | G26: =D26+E26+F26 -> 0 | H26: 1.729 | J26: 7.16575 | K26: 12.471 | L26: 16.5315 | M26: 15.7065 | O26: =M26+N26 -> 15.7065 | Q26: 10.747 | R26: =P26+Q26 -> 10.747 | S26: 4.0705 | T26: 12.06 | W26: 0.711 | Y26: =W26+X26 -> 0.711 | Z26: 3.2565 | AB26: =Z26+AA26 -> 3.2565 | AD26: 2.944 | AF26: 5.569 | AG26: =AE26+AF26 -> 5.569 | AH26: 4.421 | AI26: 3.4285 | AJ26: ='ME(2)'!AC26 -> 8.6385 | AL26: =AJ26+AK26 -> 8.6385 | AN26: 0.711 | AP26: =AN26+AO26 -> 0.711 | AQ26: 34-310 | AR26: AC-11 kötő | AS26: m3
A27: 34-420 | B27: AC-11 kopó | C27: m3 | E27: 20.322 | G27: =D27+E27+F27 -> 20.322 | H27: 20.748 | J27: 85.989 | K27: 49.884 | L27: 66.126 | M27: 62.826 | N27: 51.558 | O27: =M27+N27 -> 114.384 | P27: 28.362 | Q27: 128.964 | R27: =P27+Q27 -> 157.326 | S27: 48.846 | T27: 48.24 | W27: 2.844 | Y27: =W27+X27 -> 2.844 | Z27: 13.026 | AB27: =Z27+AA27 -> 13.026 | AC27: 26.184 | AD27: 35.328 | AE27: 37.044 | AF27: 66.828 | AG27: =AE27+AF27 -> 103.872 | AH27: 53.052 | AI27: 41.142 | AJ27: ='ME(2)'!AC28 -> 103.662 | AL27: =AJ27+AK27 -> 103.662 | AM27: 18.66 | AN27: 2.844 | AP27: =AN27+AO27 -> 2.844 | AQ27: 34-420 | AR27: AC-11 kopó | AS27: m3
G28: =D28+E28+F28 -> 0 | O28: =M28+N28 -> 0 | R28: =P28+Q28 -> 0 | Y28: =W28+X28 -> 0 | AB28: =Z28+AA28 -> 0 | AG28: =AE28+AF28 -> 0 | AL28: =AJ28+AK28 -> 0 | AP28: =AN28+AO28 -> 0
A29: 37 | B29: BEFEJEZŐ MUNKÁK | G29: =D29+E29+F29 -> 0 | O29: =M29+N29 -> 0 | R29: =P29+Q29 -> 0 | Y29: =W29+X29 -> 0 | AB29: =Z29+AA29 -> 0 | AG29: =AE29+AF29 -> 0 | AL29: =AJ29+AK29 -> 0 | AP29: =AN29+AO29 -> 0 | AQ29: 37 | AR29: BEFEJEZŐ MUNKÁK
A30: 37-115 | B30: Padka feltöltése (10 km-ig) | C30: m3 | D30: 31.26 | E30: 22.58 | G30: =D30+E30+F30 -> 53.84 | H30: 17.29 | I30: 37.573333 | J30: 95.543333 | K30: 55.426667 | L30: 55.105 | M30: 52.355 | N30: 42.965 | O30: =M30+N30 -> 95.32 | P30: 23.635 | Q30: 107.47 | R30: =P30+Q30 -> 131.105 | S30: 40.705 | T30: 53.6 | U30: 38.96 | V30: 28.246667 | W30: 3.16 | X30: 25.34 | Y30: =W30+X30 -> 28.5 | Z30: 14.473333 | AA30: 29.166667 | AB30: =Z30+AA30 -> 43.64 | AC30: 21.82 | AD30: 29.44 | AE30: 30.87 | AF30: 55.69 | AG30: =AE30+AF30 -> 86.56 | AH30: 44.21 | AI30: 45.713333 | AJ30: ='ME(2)'!AC13 -> 86.385 | AL30: =AJ30+AK30 -> 86.385 | AM30: 15.55 | AN30: 3.16 | AO30: 29.953333 | AP30: =AN30+AO30 -> 33.113333 | AQ30: 37-115 | AR30: Padka feltöltése (10 km-ig) | AS30: m3

Sheet Egységárak
B1: Egységárak
A2: Tételszám | B2: Megnevezés | C2: Egységár (nettó HUF)
A4: 10 | B4: ÁLTALÁNOS TÉTELEK
A5: 10-200 | B5: Megvalósulási tervek elkészítése
A6: K | B6: Ideiglenes forgalomterelés építés, bontás
A8: 31-2 | B8: ELŐKÉSZÍTŐ- ÉS FÖLDMUNKÁK
A9: 31-231 | B9: Aszfaltburkolatok felső rétegének lemarása, hideg eljárás
A10: 31-253 | B10: Szórt és makadám útalapok bontása
A12: 31-3 | B12: BURKOLAT ELŐKÉSZÍTÉS
A13: 31-323 | B13: Kátyúk javítása AC-11 keverékkel
A15: 32-3 | B15: EGYÉB FÖLDMUNKÁK
A16: 32-310 | B16: Alkalmatlan altalajok kitermelése elszállítással
A17: 32-315 | B17: Padka nyesése 10 cm vastagságig, elszállítással
A18: 32-331 | B18: Védőréteg készítése homokos kavicsból
A20: 33 | B20: ÚTÉPÍTÉS ÉS EGYÉB PÁLYASZERKEZET ÉPÍTÉS
... A26: 37-115 | B26: Padka feltöltése (10 km-ig)

Sheet 1
A1: KÖLTSÉGVETÉSI KIÍRÁS
B2: 1.szakasz Vak Bottyán utca
A3: Tételszám | B3: Megnevezés | C3: Mennyiség | D3: M.e. | E3: Egységár (nettó HUF) | F3: Tétel költsége (nettó HUF)
A5: 10 | B5: ÁLTALÁNOS TÉTELEK
A6: 10-200 | B6: Megvalósulási tervek elkészítése | C6: 1 | D6: db | F6: =C6*E6 -> 0
A7: K | B7: Ideiglenes forgalomterelés építés, bontás | C7: 1 | D7: készlet | F7: =C7*E7 -> 0
C8: Munkanem összesen: | F8: =SUM(F6:F7) -> 0
A9: 31-2 | B9: ELŐKÉSZÍTŐ- ÉS FÖLDMUNKÁK
A10: 31-231 | B10: Aszfaltburkolatok felső rétegének lemarása, hideg eljárás | C10: =Menny!G10 -> 3.387 | D10: m3 | F10: =C10*E10 -> 0
F11: =SUM(F10:F10) -> 0
A12: 31-3 | B12: BURKOLAT ELŐKÉSZÍTÉS
A13: 31-323 | B13: Kátyúk javítása AC-11 keverékkel | C13: =Menny!G14 -> 16.935 | D13: m2 | F13: =C13*E13 -> 0
F14: =SUM(F13:F13) -> 0
A15: 32-3 | B15: EGYÉB FÖLDMUNKÁK
A16: 32-310 | B16: Alkalmatlan altalajok kitermelése elszállítással | C16: =Menny!G17 -> 93.78 | D16: m3 | F16: =C16*E16 -> 0
A17: 32-315 | B17: Padka nyesése 10 cm vastagságig, elszállítással | C17: =Menny!G18 -> 538.4 | D17: m2 | F17: =C17*E17 -> 0
A18: 32-331 | B18: Védőréteg készítése homokos kavicsból | C18: =Menny!G20 -> 93.78 | D18: m3 | F18: =C18*E18 -> 0
F19: =SUM(F16:F18) -> 0
A20: 33 | B20: ÚTÉPÍTÉS ÉS EGYÉB PÁLYASZERKEZET ÉPÍTÉS
A21: 33-320 | B21: Folyamatos szemeloszlású zúzottkő útalap készítése | C21: =Menny!G23 -> 117.225 | D21: m3 | F21: =C21*E21 -> 0
A22: 34-420 | B22: AC-11 kopó | C22: =Menny!G27 -> 20.322 | D22: m3 | F22: =C22*E22 -> 0
F23: =SUM(F21:F22) -> 0
A24: 37 | B24: BEFEJEZŐ MUNKÁK
A25: 37-115 | B25: Padka feltöltése (10 km-ig) | C25: =Menny!G30 -> 53.84 | D25: m3 | F25: =C25*E25 -> 0
F26: =SUM(F25:F25) -> 0
F28: =SUM(F8+F11+F14+F19+F23+F26) -> 0
F29: =F28*0.27 -> 0
F30: =SUM(F28,F29) -> 0

Sheet 2
A1: KÖLTSÉGVETÉSI KIÍRÁS
B2: 2.szakasz Vak Bottyán utca Dózsa Gy. út felőli vége
A3: Tételszám | B3: Megnevezés | C3: Mennyiség | D3: M.e. | E3: Egységár (nettó HUF) | F3: Tétel költsége (nettó HUF)
A5: 10 | B5: ÁLTALÁNOS TÉTELEK
A6: 10-200 | B6: Megvalósulási tervek elkészítése | C6: 1 | D6: db | F6: =C6*E6 -> 0
A7: K | B7: Ideiglenes forgalomterelés építés, bontás | C7: 1 | D7: készlet | F7: =C7*E7 -> 0
C8: Munkanem összesen: | F8: =SUM(F6:F7) -> 0
A9: 31-2 | B9: ELŐKÉSZÍTŐ- ÉS FÖLDMUNKÁK
A10: 31-231 | B10: Aszfaltburkolatok felső rétegének lemarása, hideg eljárás | C10: 3.458 | D10: m3 | F10: =C10*E10 -> 0
A11: 31-253 | B11: Szórt és makadám útalapok bontása | C11: 34.58 | D11: m2 | F11: =C11*E11 -> 0
C12: Munkanem összesen: | F12: =SUM(F10:F11) -> 0
A13: 31-3 | B13: BURKOLAT ELŐKÉSZÍTÉS
A14: 31-323 | B14: Kátyúk javítása AC-11 keverékkel | C14: 17.29 | D14: m2 | F14: =C14*E14 -> 0
C15: Munkanem összesen: | F15: =SUM(F14:F14) -> 0
A16: 32-3 | B16: EGYÉB FÖLDMUNKÁK
A17: 32-315 | B17: Padka nyesése 10 cm vastagságig, elszállítással | C17: 172.9 | D17: m2 | F17: =C17*E17 -> 0
A18: 32-331 | B18: Védőréteg készítése homokos kavicsból | C18: =Menny!H20 -> 6.916 | D18: m3 | F18: =C18*E18 -> 0
C19: Munkanem összesen: | F19: =SUM(F17:F18) -> 0
A20: 33 | B20: ÚTÉPÍTÉS ÉS EGYÉB PÁLYASZERKEZET ÉPÍTÉS
A21: 33-320 | B21: Folyamatos szemeloszlású zúzottkő útalap készítése | C21: =Menny!H23 -> 6.916 | D21: m3 | F21: =C21*E21 -> 0
A22: 34-310 | B22: AC-11 kötő | C22: 1.729 | D22: m3 | F22: =C22*E22 -> 0
A23: 34-420 | B23: AC-11 kopó | C23: 20.748 | D23: m3 | F23: =C23*E23 -> 0
C24: Munkanem összesen: | F24: =SUM(F21:F23) -> 0
A25: 37 | B25: BEFEJEZŐ MUNKÁK
A26: 37-115 | B26: Padka feltöltése (10 km-ig) | C26: 17.29 | D26: m3 | F26: =C26*E26 -> 0
C27: Munkanem összesen: | F27: =SUM(F26:F26) -> 0
C29: Összesen nettó HUF: | F29: =SUM(F8+F12+F15+F19+F24+F27) -> 0
C30: ÁFA 27%: | F30: =F29*0.27 -> 0
C31: Összesen bruttó HUF: | F31: =SUM(F29,F30) -> 0

Sheet 3
A1: KÖLTSÉGVETÉSI KIÍRÁS
B2: 3.szakasz Mártírok útja
A3: Tételszám | B3: Megnevezés | C3: Mennyiség | D3: M.e. | E3: Egységár (nettó HUF) | F3: Tétel költsége (nettó HUF)
A5: 10 | B5: ÁLTALÁNOS TÉTELEK
A6: 10-200 | B6: Megvalósulási tervek elkészítése | C6: 1 | D6: db | F6: =C6*E6 -> 0
A7: K | B7: Ideiglenes forgalomterelés építés, bontás | C7: 1 | D7: készlet | F7: =C7*E7 -> 0
C8: Munkanem összesen: | F8: =SUM(F6:F7) -> 0
A9: 32-3 | B9: EGYÉB FÖLDMUNKÁK
A10: 32-310 | B10: Alkalmatlan altalajok kitermelése elszállítással | C10: =Menny!I17 -> 112.72 | D10: m3 | F10: =C10*E10 -> 0
A11: 32-315 | B11: Padka nyesése 10 cm vastagságig, elszállítással | C11: 375.73333 | D11: m2 | F11: =C11*E11 -> 0
A12: 32-331 | B12: Védőréteg készítése homokos kavicsból | C12: =Menny!I20 -> 112.72 | D12: m3 | F12: =C12*E12 -> 0
C13: Munkanem összesen: | F13: =SUM(F10:F12) -> 0
A14: 33 | B14: ÚTÉPÍTÉS ÉS EGYÉB PÁLYASZERKEZET ÉPÍTÉS
A15: 33-320 | B15: Folyamatos szemeloszlású zúzottkő útalap készítése | C15: =Menny!I23 -> 140.9 | D15: m3 | F15: =C15*E15 -> 0
C16: Munkanem összesen: | F16: =SUM(F15:F15) -> 0
A17: 37 | B17: BEFEJEZŐ MUNKÁK
A18: 37-115 | B18: Padka feltöltése (10 km-ig) | C18: 37.573333 | D18: m3 | F18: =C18*E18 -> 0
C19: Munkanem összesen: | F19: =SUM(F18:F18) -> 0
C21: Összesen nettó HUF: | F21: =SUM(F8+F13+F16+F19) -> 0
C22: ÁFA 27%: | F22: =F21*0.27 -> 0
C23: Összesen bruttó HUF: | F23: =SUM(F21,F22) -> 0

Sheet 4
A1: KÖLTSÉGVETÉSI KIÍRÁS
B2: 4.szakasz Szent István utca
A3: Tételszám | B3: Megnevezés | C3: Mennyiség | D3: M.e. | E3: Egységár (nettó HUF) | F3: Tétel költsége (nettó HUF)
A5: 10 | B5: ÁLTALÁNOS TÉTELEK
A6: 10-200 | B6: Megvalósulási tervek elkészítése | C6: 1 | D6: db | F6: =C6*E6 -> 0
A7: K | B7: Ideiglenes forgalomterelés építés, bontás | C7: 1 | D7: készlet | F7: =C7*E7 -> 0
C8: Munkanem összesen: | F8: =SUM(F6:F7) -> 0
A9: 31-2 | B9: ELŐKÉSZÍTŐ- ÉS FÖLDMUNKÁK
A10: 31-231 | B10: Aszfaltburkolatok felső rétegének lemarása, hideg eljárás | C10: 14.3315 | D10: m3 | F10: =C10*E10 -> 0
A11: 31-253 | B11: Szórt és makadám útalapok bontása | C11: 143.315 | D11: m2 | F11: =C11*E11 -> 0
C12: Munkanem összesen: | F12: =SUM(F10:F11) -> 0
A13: 31-3 | B13: BURKOLAT ELŐKÉSZÍTÉS
A14: 31-323 | B14: Kátyúk javítása AC-11 keverékkel | C14: 71.6575 | D14: m2 | F14: =C14*E14 -> 0
C15: Munkanem összesen: | F15: =SUM(F14:F14) -> 0
A16: 32-3 | B16: EGYÉB FÖLDMUNKÁK
A17: 32-315 | B17: Padka nyesése 10 cm vastagságig, elszállítással | C17: 955.43333 | D17: m2 | F17: =C17*E17 -> 0
A18: 32-331 | B18: Védőréteg készítése homokos kavicsból | C18: =Menny!J20 -> 28.663 | D18: m3 | F18: =C18*E18 -> 0
C19: Munkanem összesen: | F19: =SUM(F17:F18) -> 0
A20: 33 | B20: ÚTÉPÍTÉS ÉS EGYÉB PÁLYASZERKEZET ÉPÍTÉS
A21: 33-320 | B21: Folyamatos szemeloszlású zúzottkő útalap készítése | C21: 28.663 | D21: m3 | F21: =C21*E21 -> 0
A22: 34-310 | B22: AC-11 kötő | C22: 7.16575 | D22: m3 | F22: =C22*E22 -> 0
A23: 34-420 | B23: AC-11 kopó | C23: 85.989 | D23: m3 | F23: =C23*E23 -> 0
C24: Munkanem összesen: | F24: =SUM(F21:F23) -> 0
A25: 37 | B25: BEFEJEZŐ MUNKÁK
A26: 37-115 | B26: Padka feltöltése (10 km-ig) | C26: 95.543333 | D26: m3 | F26: =C26*E26 -> 0
C27: Munkanem összesen: | F27: =SUM(F26:F26) -> 0
C29: Összesen nettó HUF: | F29: =SUM(F8+F12+F15+F19+F24+F27) -> 0
C30: ÁFA 27%: | F30: =F29*0.27 -> 0
C31: Összesen bruttó HUF: | F31: =SUM(F29,F30) -> 0

Sheet 5
A1: KÖLTSÉGVETÉSI KIÍRÁS
B2: 5.szakasz Katona József utca (Árpádtelep)
A3: Tételszám | B3: Megnevezés | C3: Mennyiség | D3: M.e. | E3: Egységár (nettó HUF) | F3: Tétel költsége (nettó HUF)
A5: 10 | B5: ÁLTALÁNOS TÉTELEK
A6: 10-200 | B6: Megvalósulási tervek elkészítése | C6: 1 | D6: db | F6: =C6*E6 -> 0
A7: K | B7: Ideiglenes forgalomterelés építés, bontás | C7: 1 | D7: készlet | F7: =C7*E7 -> 0
C8: Munkanem összesen: | F8: =SUM(F6:F7) -> 0
A9: 31-2 | B9: ELŐKÉSZÍTŐ- ÉS FÖLDMUNKÁK
A10: 31-231 | B10: Aszfaltburkolatok felső rétegének lemarása, hideg eljárás | C10: 8.314 | D10: m3 | F10: =C10*E10 -> 0
A11: 31-253 | B11: Szórt és makadám útalapok bontása | C11: 249.42 | D11: m2 | F11: =C11*E11 -> 0
C12: Munkanem összesen: | F12: =SUM(F10:F11) -> 0
A13: 31-3 | B13: BURKOLAT ELŐKÉSZÍTÉS
A14: 31-323 | B14: Kátyúk javítása AC-11 keverékkel | C14: 41.57 | D14: m2 | F14: =C14*E14 -> 0
C15: Munkanem összesen: | F15: =SUM(F14:F14) -> 0
A16: 32-3 | B16: EGYÉB FÖLDMUNKÁK
A17: 32-315 | B17: Padka nyesése 10 cm vastagságig, elszállítással | C17: 554.26667 | D17: m2 | F17: =C17*E17 -> 0
A18: 32-331 | B18: Védőréteg készítése homokos kavicsból | C18: =Menny!K20 -> 49.884 | D18: m3 | F18: =C18*E18 -> 0
C19: Munkanem összesen: | F19: =SUM(F17:F18) -> 0
A20: 33 | B20: ÚTÉPÍTÉS ÉS EGYÉB PÁLYASZERKEZET ÉPÍTÉS
A21: 33-320 | B21: Folyamatos szemeloszlású zúzottkő útalap készítése | C21: 49.884 | D21: m3 | F21: =C21*E21 -> 0
A22: 34-310 | B22: AC-11 kötő | C22: 12.471 | D22: m3 | F22: =C22*E22 -> 0
A23: 34-420 | B23: AC-11 kopó | C23: 49.884 | D23: m3 | F23: =C23*E23 -> 0
C24: Munkanem összesen: | F24: =SUM(F21:F23) -> 0
A25: 37 | B25: BEFEJEZŐ MUNKÁK
A26: 37-115 | B26: Padka feltöltése (10 km-ig) | C26: 55.426667 | D26: m3 | F26: =C26*E26 -> 0
C27: Munkanem összesen: | F27: =SUM(F26:F26) -> 0
C29: Összesen nettó HUF: | F29: =SUM(F8+F12+F15+F19+F24+F27) -> 0
C30: ÁFA 27%: | F30: =F29*0.27 -> 0
C31: Összesen bruttó HUF: | F31: =SUM(F29,F30) -> 0

Sheet 6
A1: KÖLTSÉGVETÉSI KIÍRÁS
B2: 6.szakasz Dózsa György utca (Bocskai u. -Thököly u. között)
A3: Tételszám | B3: Megnevezés | C3: Mennyiség | D3: M.e. | E3: Egységár (nettó HUF) | F3: Tétel költsége (nettó HUF)
A5: 10 | B5: ÁLTALÁNOS TÉTELEK
A6: 10-200 | B6: Megvalósulási tervek elkészítése | C6: 1 | D6: db | F6: =C6*E6 -> 0
A7: K | B7: Ideiglenes forgalomterelés építés, bontás | C7: 1 | D7: készlet | F7: =C7*E7 -> 0
C8: Munkanem összesen: | F8: =SUM(F6:F7) -> 0
A9: 31-2 | B9: ELŐKÉSZÍTŐ- ÉS FÖLDMUNKÁK
A10: 31-231 | B10: Aszfaltburkolatok felső rétegének lemarása, hideg eljárás | C10: 11.021 | D10: m3 | F10: =C10*E10 -> 0
A11: 31-253 | B11: Szórt és makadám útalapok bontása | C11: 330.63 | D11: m2 | F11: =C11*E11 -> 0
C12: Munkanem összesen: | F12: =SUM(F10:F11) -> 0
A13: 31-3 | B13: BURKOLAT ELŐKÉSZÍTÉS
A14: 31-323 | B14: Kátyúk javítása AC-11 keverékkel | C14: 55.105 | D14: m2 | F14: =C14*E14 -> 0
C15: Munkanem összesen: | F15: =SUM(F14:F14) -> 0
A16: 32-3 | B16: EGYÉB FÖLDMUNKÁK
A17: 32-315 | B17: Padka nyesése 10 cm vastagságig, elszállítással | C17: 551.05 | D17: m2 | F17: =C17*E17 -> 0
A18: 32-331 | B18: Védőréteg készítése homokos kavicsból | C18: =Menny!L20 -> 66.126 | D18: m3 | F18: =C18*E18 -> 0
C19: Munkanem összesen: | F19: =SUM(F17:F18) -> 0
A20: 33 | B20: ÚTÉPÍTÉS ÉS EGYÉB PÁLYASZERKEZET ÉPÍTÉS
A21: 33-320 | B21: Folyamatos szemeloszlású zúzottkő útalap készítése | C21: 66.126 | D21: m3 | F21: =C21*E21 -> 0
A22: 34-310 | B22: AC-11 kötő | C22: 16.5315 | D22: m3 | F22: =C22*E22 -> 0
A23: 34-420 | B23: AC-11 kopó | C23: 66.126 | D23: m3 | F23: =C23*E23 -> 0
C24: Munkanem összesen: | F24: =SUM(F21:F23) -> 0
A25: 37 | B25: BEFEJEZŐ MUNKÁK
A26: 37-115 | B26: Padka feltöltése (10 km-ig) | C26: 55.105 | D26: m3 | F26: =C26*E26 -> 0
C27: Munkanem összesen: | F27: =SUM(F26:F26) -> 0
C29: Összesen nettó HUF: | F29: =SUM(F8+F12+F15+F19+F24+F27) -> 0
C30: ÁFA 27%: | F30: =F29*0.27 -> 0
C31: Összesen bruttó HUF: | F31: =SUM(F29,F30) -> 0

Sheet 7
A1: KÖLTSÉGVETÉSI KIÍRÁS
B2: 7.szakasz Kossuth Lajos utca
A3: Tételszám | B3: Megnevezés | C3: Mennyiség | D3: M.e. | E3: Egységár (nettó HUF) | F3: Tétel költsége (nettó HUF)
A5: 10 | B5: ÁLTALÁNOS TÉTELEK
A6: 10-200 | B6: Megvalósulási tervek elkészítése | C6: 1 | D6: db | F6: =C6*E6 -> 0
A7: K | B7: Ideiglenes forgalomterelés építés, bontás | C7: 1 | D7: készlet | F7: =C7*E7 -> 0
C8: Munkanem összesen: | F8: =SUM(F6:F7) -> 0
A9: 31-2 | B9: ELŐKÉSZÍTŐ- ÉS FÖLDMUNKÁK
A10: 31-231 | B10: Aszfaltburkolatok felső rétegének lemarása, hideg eljárás | C10: 19.064 | D10: m3 | F10: =C10*E10 -> 0
A11: 31-253 | B11: Szórt és makadám útalapok bontása | C11: 314.13 | D11: m2 | F11: =C11*E11 -> 0
C12: Munkanem összesen: | F12: =SUM(F10:F11) -> 0
A13: 31-3 | B13: BURKOLAT ELŐKÉSZÍTÉS
A14: 31-323 | B14: Kátyúk javítása AC-11 keverékkel | C14: 95.32 | D14: m2 | F14: =C14*E14 -> 0
C15: Munkanem összesen: | F15: =SUM(F14:F14) -> 0
A16: 32-3 | B16: EGYÉB FÖLDMUNKÁK
A17: 32-315 | B17: Padka nyesése 10 cm vastagságig, elszállítással | C17: 953.2 | D17: m2 | F17: =C17*E17 -> 0
A18: 32-331 | B18: Védőréteg készítése homokos kavicsból | C18: =Menny!O20 -> 62.826 | D18: m3 | F18: =C18*E18 -> 0
C19: Munkanem összesen: | F19: =SUM(F17:F18) -> 0
A20: 33 | B20: ÚTÉPÍTÉS ÉS EGYÉB PÁLYASZERKEZET ÉPÍTÉS
A21: 33-320 | B21: Folyamatos szemeloszlású zúzottkő útalap készítése | C21: 62.826 | D21: m3 | F21: =C21*E21 -> 0
A22: 34-310 | B22: AC-11 kötő | C22: 15.7065 | D22: m3 | F22: =C22*E22 -> 0
A23: 34-420 | B23: AC-11 kopó | C23: 114.384 | D23: m3 | F23: =C23*E23 -> 0
C24: Munkanem összesen: | F24: =SUM(F21:F23) -> 0
A25: 37 | B25: BEFEJEZŐ MUNKÁK
A26: 37-115 | B26: Padka feltöltése (10 km-ig) | C26: 95.32 | D26: m3 | F26: =C26*E26 -> 0
C27: Munkanem összesen: | F27: =SUM(F26:F26) -> 0
C29: Összesen nettó HUF: | F29: =SUM(F8+F12+F15+F19+F24+F27) -> 0
C30: ÁFA 27%: | F30: =F29*0.27 -> 0
C31: Összesen bruttó HUF: | F31: =SUM(F29,F30) -> 0

Sheet 8
A1: KÖLTSÉGVETÉSI KIÍRÁS
B2: 8.szakasz Móricz Zsigmond utca
A3: Tételszám | B3: Megnevezés | C3: Mennyiség | D3: M.e. | E3: Egységár (nettó HUF) | F3: Tétel költsége (nettó HUF)
A5: 10 | B5: ÁLTALÁNOS TÉTELEK
A6: 10-200 | B6: Megvalósulási tervek elkészítése | C6: 1 | D6: db | F6: =C6*E6 -> 0
A7: K | B7: Ideiglenes forgalomterelés építés, bontás | C7: 1 | D7: készlet | F7: =C7*E7 -> 0
C8: Munkanem összesen: | F8: =SUM(F6:F7) -> 0
A9: 31-2 | B9: ELŐKÉSZÍTŐ- ÉS FÖLDMUNKÁK
A10: 31-231 | B10: Aszfaltburkolatok felső rétegének lemarása, hideg eljárás | C10: 26.221 | D10: m3 | F10: =C10*E10 -> 0
A11: 31-253 | B11: Szórt és makadám útalapok bontása | C11: 214.94 | D11: m2 | F11: =C11*E11 -> 0
C12: Munkanem összesen: | F12: =SUM(F10:F11) -> 0
A13: 31-3 | B13: BURKOLAT ELŐKÉSZÍTÉS
A14: 31-323 | B14: Kátyúk javítása AC-11 keverékkel | C14: 131.105 | D14: m2 | F14: =C14*E14 -> 0
C15: Munkanem összesen: | F15: =SUM(F14:F14) -> 0
A16: 32-3 | B16: EGYÉB FÖLDMUNKÁK
A17: 32-315 | B17: Padka nyesése 10 cm vastagságig, elszállítással | C17: 1311.05 | D17: m2 | F17: =C17*E17 -> 0
A18: 32-331 | B18: Védőréteg készítése homokos kavicsból | C18: =Menny!R20 -> 42.988 | D18: m3 | F18: =C18*E18 -> 0
C19: Munkanem összesen: | F19: =SUM(F17:F18) -> 0
A20: 33 | B20: ÚTÉPÍTÉS ÉS EGYÉB PÁLYASZERKEZET ÉPÍTÉS
A21: 33-320 | B21: Folyamatos szemeloszlású zúzottkő útalap készítése | C21: 42.988 | D21: m3 | F21: =C21*E21 -> 0
A22: 34-310 | B22: AC-11 kötő | C22: 10.747 | D22: m3 | F22: =C22*E22 -> 0
A23: 34-420 | B23: AC-11 kopó | C23: 157.326 | D23: m3 | F23: =C23*E23 -> 0
C24: Munkanem összesen: | F24: =SUM(F21:F23) -> 0
A25: 37 | B25: BEFEJEZŐ MUNKÁK
A26: 37-115 | B26: Padka feltöltése (10 km-ig) | C26: 131.105 | D26: m3 | F26: =C26*E26 -> 0
C27: Munkanem összesen: | F27: =SUM(F26:F26) -> 0
C29: Összesen nettó HUF: | F29: =SUM(F8+F12+F15+F19+F24+F27) -> 0
C30: ÁFA 27%: | F30: =F29*0.27 -> 0
C31: Összesen bruttó HUF: | F31: =SUM(F29,F30) -> 0

Sheet 9
A1: KÖLTSÉGVETÉSI KIÍRÁS
B2: 9.szakasz Szent Imre tér
A3: Tételszám | B3: Megnevezés | C3: Mennyiség | D3: M.e. | E3: Egységár (nettó HUF) | F3: Tétel költsége (nettó HUF)
A5: 10 | B5: ÁLTALÁNOS TÉTELEK
A6: 10-200 | B6: Megvalósulási tervek elkészítése | C6: 1 | D6: db | F6: =C6*E6 -> 0
A7: K | B7: Ideiglenes forgalomterelés építés, bontás | C7: 1 | D7: készlet | F7: =C7*E7 -> 0
C8: Munkanem összesen: | F8: =SUM(F6:F7) -> 0
A9: 31-2 | B9: ELŐKÉSZÍTŐ- ÉS FÖLDMUNKÁK
A10: 31-231 | B10: Aszfaltburkolatok felső rétegének lemarása, hideg eljárás | C10: 8.141 | D10: m3 | F10: =C10*E10 -> 0
A11: 31-253 | B11: Szórt és makadám útalapok bontása | C11: 81.41 | D11: m2 | F11: =C11*E11 -> 0
C12: Munkanem összesen: | F12: =SUM(F10:F11) -> 0
A13: 31-3 | B13: BURKOLAT ELŐKÉSZÍTÉS
A14: 31-323 | B14: Kátyúk javítása AC-11 keverékkel | C14: 40.705 | D14: m2 | F14: =C14*E14 -> 0
C15: Munkanem összesen: | F15: =SUM(F14:F14) -> 0
A16: 32-3 | B16: EGYÉB FÖLDMUNKÁK
A17: 32-315 | B17: Padka nyesése 10 cm vastagságig, elszállítással | C17: 407.05 | D17: m2 | F17: =C17*E17 -> 0
A18: 32-331 | B18: Védőréteg készítése homokos kavicsból | C18: =Menny!S20 -> 16.282 | D18: m3 | F18: =C18*E18 -> 0
C19: Munkanem összesen: | F19: =SUM(F17:F18) -> 0
A20: 33 | B20: ÚTÉPÍTÉS ÉS EGYÉB PÁLYASZERKEZET ÉPÍTÉS
A21: 33-320 | B21: Folyamatos szemeloszlású zúzottkő útalap készítése | C21: 16.282 | D21: m3 | F21: =C21*E21 -> 0
A22: 34-310 | B22: AC-11 kötő | C22: 4.0705 | D22: m3 | F22: =C22*E22 -> 0
A23: 34-420 | B23: AC-11 kopó | C23: 48.846 | D23: m3 | F23: =C23*E23 -> 0
C24: Munkanem összesen: | F24: =SUM(F21:F23) -> 0
A25: 37 | B25: BEFEJEZŐ MUNKÁK
A26: 37-115 | B26: Padka feltöltése (10 km-ig) | C26: 40.705 | D26: m3 | F26: =C26*E26 -> 0
C27: Munkanem összesen: | F27: =SUM(F26:F26) -> 0
C29: Összesen nettó HUF: | F29: =SUM(F8+F12+F15+F19+F24+F27) -> 0
C30: ÁFA 27%: | F30: =F29*0.27 -> 0
C31: Összesen bruttó HUF: | F31: =SUM(F29,F30) -> 0

Sheet 10
A1: KÖLTSÉGVETÉSI KIÍRÁS
B2: 10.szakasz Honfoglalás utca
A3: Tételszám | B3: Megnevezés | C3: Mennyiség | D3: M.e. | E3: Egységár (nettó HUF) | F3: Tétel költsége (nettó HUF)
A5: 10 | B5: ÁLTALÁNOS TÉTELEK
A6: 10-200 | B6: Megvalósulási tervek elkészítése | C6: 1 | D6: db | F6: =C6*E6 -> 0
A7: K | B7: Ideiglenes forgalomterelés építés, bontás | C7: 1 | D7: készlet | F7: =C7*E7 -> 0
C8: Munkanem összesen: | F8: =SUM(F6:F7) -> 0
A9: 31-2 | B9: ELŐKÉSZÍTŐ- ÉS FÖLDMUNKÁK
A10: 31-231 | B10: Aszfaltburkolatok felső rétegének lemarása, hideg eljárás | C10: 8.04 | D10: m3 | F10: =C10*E10 -> 0
A11: 31-253 | B11: Szórt és makadám útalapok bontása | C11: 241.2 | D11: m2 | F11: =C11*E11 -> 0
C12: Munkanem összesen: | F12: =SUM(F10:F11) -> 0
A13: 31-3 | B13: BURKOLAT ELŐKÉSZÍTÉS
A14: 31-323 | B14: Kátyúk javítása AC-11 keverékkel | C14: 40.2 | D14: m2 | F14: =C14*E14 -> 0
C15: Munkanem összesen: | F15: =SUM(F14:F14) -> 0
A16: 32-3 | B16: EGYÉB FÖLDMUNKÁK
A17: 32-315 | B17: Padka nyesése 10 cm vastagságig, elszállítással | C17: 536 | D17: m2 | F17: =C17*E17 -> 0
A18: 32-331 | B18: Védőréteg készítése homokos kavicsból | C18: =Menny!T20 -> 48.24 | D18: m3 | F18: =C18*E18 -> 0
C19: Munkanem összesen: | F19: =SUM(F17:F18) -> 0
A20: 33 | B20: ÚTÉPÍTÉS ÉS EGYÉB PÁLYASZERKEZET ÉPÍTÉS
A21: 33-320 | B21: Folyamatos szemeloszlású zúzottkő útalap készítése | C21: 48.24 | D21: m3 | F21: =C21*E21 -> 0
A22: 34-310 | B22: AC-11 kötő | C22: 12.06 | D22: m3 | F22: =C22*E22 -> 0
A23: 34-420 | B23: AC-11 kopó | C23: 48.24 | D23: m3 | F23: =C23*E23 -> 0
C24: Munkanem összesen: | F24: =SUM(F21:F23) -> 0
A25: 37 | B25: BEFEJEZŐ MUNKÁK
A26: 37-115 | B26: Padka feltöltése (10 km-ig) | C26: 53.6 | D26: m3 | F26: =C26*E26 -> 0
C27: Munkanem összesen: | F27: =SUM(F26:F26) -> 0
C29: Összesen nettó HUF: | F29: =SUM(F8+F12+F15+F19+F24+F27) -> 0
C30: ÁFA 27%: | F30: =F29*0.27 -> 0
C31: Összesen bruttó HUF: | F31: =SUM(F29,F30) -> 0

Sheet 11
A1: KÖLTSÉGVETÉSI KIÍRÁS
B2: 11.szakasz Jókai Mór utca
A3: Tételszám | B3: Megnevezés | C3: Mennyiség | D3: M.e. | E3: Egységár (nettó HUF) | F3: Tétel költsége (nettó HUF)
A5: 10 | B5: ÁLTALÁNOS TÉTELEK
A6: 10-200 | B6: Megvalósulási tervek elkészítése | C6: 1 | D6: db | F6: =C6*E6 -> 0
A7: K | B7: Ideiglenes forgalomterelés építés, bontás | C7: 1 | D7: készlet | F7: =C7*E7 -> 0
C8: Munkanem összesen: | F8: =SUM(F6:F7) -> 0
A9: 32-3 | B9: EGYÉB FÖLDMUNKÁK
A10: 32-310 | B10: Alkalmatlan altalajok kitermelése elszállítással | C10: =Menny!U17 -> 116.88 | D10: m3 | F10: =C10*E10 -> 0
A11: 32-315 | B11: Padka nyesése 10 cm vastagságig, elszállítással | C11: 389.6 | D11: m2 | F11: =C11*E11 -> 0
A12: 32-331 | B12: Védőréteg készítése homokos kavicsból | C12: =Menny!U20 -> 116.88 | D12: m3 | F12: =C12*E12 -> 0
C13: Munkanem összesen: | F13: =SUM(F10:F12) -> 0
A14: 33 | B14: ÚTÉPÍTÉS ÉS EGYÉB PÁLYASZERKEZET ÉPÍTÉS
A15: 33-320 | B15: Folyamatos szemeloszlású zúzottkő útalap készítése | C15: =Menny!U23 -> 146.1 | D15: m3 | F15: =C15*E15 -> 0
C16: Munkanem összesen: | F16: =SUM(F15:F15) -> 0
A17: 37 | B17: BEFEJEZŐ MUNKÁK
A18: 37-115 | B18: Padka feltöltése (10 km-ig) | C18: 38.96 | D18: m3 | F18: =C18*E18 -> 0
C19: Munkanem összesen: | F19: =SUM(F18:F18) -> 0
C21: Összesen nettó HUF: | F21: =SUM(F8+F13+F16+F19) -> 0
C22: ÁFA 27%: | F22: =F21*0.27 -> 0
C23: Összesen bruttó HUF: | F23: =SUM(F21,F22) -> 0

Sheet 12
A1: KÖLTSÉGVETÉSI KIÍRÁS
B2: 12.szakasz Kazinczy Ferenc utca
A3: Tételszám | B3: Megnevezés | C3: Mennyiség | D3: M.e. | E3: Egységár (nettó HUF) | F3: Tétel költsége (nettó HUF)
A5: 10 | B5: ÁLTALÁNOS TÉTELEK
A6: 10-200 | B6: Megvalósulási tervek elkészítése | C6: 1 | D6: db | F6: =C6*E6 -> 0
A7: K | B7: Ideiglenes forgalomterelés építés, bontás | C7: 1 | D7: készlet | F7: =C7*E7 -> 0
C8: Munkanem összesen: | F8: =SUM(F6:F7) -> 0
A9: 32-3 | B9: EGYÉB FÖLDMUNKÁK
A10: 32-310 | B10: Alkalmatlan altalajok kitermelése elszállítással | C10: =Menny!V17 -> 84.74 | D10: m3 | F10: =C10*E10 -> 0
A11: 32-315 | B11: Padka nyesése 10 cm vastagságig, elszállítással | C11: 282.46667 | D11: m2 | F11: =C11*E11 -> 0
A12: 32-331 | B12: Védőréteg készítése homokos kavicsból | C12: =Menny!V20 -> 84.74 | D12: m3 | F12: =C12*E12 -> 0
C13: Munkanem összesen: | F13: =SUM(F10:F12) -> 0
A14: 33 | B14: ÚTÉPÍTÉS ÉS EGYÉB PÁLYASZERKEZET ÉPÍTÉS
A15: 33-320 | B15: Folyamatos szemeloszlású zúzottkő útalap készítése | C15: =Menny!V23 -> 105.925 | D15: m3 | F15: =C15*E15 -> 0
C16: Munkanem összesen: | F16: =SUM(F15:F15) -> 0
A17: 37 | B17: BEFEJEZŐ MUNKÁK
A18: 37-115 | B18: Padka feltöltése (10 km-ig) | C18: 28.2 | D18: m3 | F18: =C18*E18 -> 0
C19: Munkanem összesen: | F19: =SUM(F18:F18) -> 0
C21: Összesen nettó HUF: | F21: =SUM(F8+F13+F16+F19) -> 0
C22: ÁFA 27%: | F22: =F21*0.27 -> 0
C23: Összesen bruttó HUF: | F23: =SUM(F21,F22) -> 0

Sheet 13
A1: KÖLTSÉGVETÉSI KIÍRÁS
B2: 13.szakasz Bajcsy-Zsilinszky utca
A3: Tételszám | B3: Megnevezés | C3: Mennyiség | D3: M.e. | E3: Egységár (nettó HUF) | F3: Tétel költsége (nettó HUF)
A5: 10 | B5: ÁLTALÁNOS TÉTELEK
A6: 10-200 | B6: Megvalósulási tervek elkészítése | C6: 1 | D6: db | F6: =C6*E6 -> 0
A7: K | B7: Ideiglenes forgalomterelés építés, bontás | C7: 1 | D7: készlet | F7: =C7*E7 -> 0
C8: Munkanem összesen: | F8: =SUM(F6:F7) -> 0
A9: 31-2 | B9: ELŐKÉSZÍTŐ- ÉS FÖLDMUNKÁK
A10: 31-231 | B10: Aszfaltburkolatok felső rétegének lemarása, hideg eljárás | C10: 0.474 | D10: m3 | F10: =C10*E10 -> 0
A11: 31-253 | B11: Szórt és makadám útalapok bontása | C11: 14.22 | D11: m2 | F11: =C11*E11 -> 0
C12: Munkanem összesen: | F12: =SUM(F10:F11) -> 0
A13: 31-3 | B13: BURKOLAT ELŐKÉSZÍTÉS
A14: 31-323 | B14: Kátyúk javítása AC-11 keverékkel | C14: 2.37 | D14: m2 | F14: =C14*E14 -> 0
